BEGIN:VCALENDAR
VERSION:2.0
PRODID:-//Tiraholms fisk - ECPv6.15.20//NONSGML v1.0//EN
CALSCALE:GREGORIAN
METHOD:PUBLISH
X-ORIGINAL-URL:https://tiraholm.se
X-WR-CALDESC:Händelser för Tiraholms fisk
REFRESH-INTERVAL;VALUE=DURATION:PT1H
X-Robots-Tag:noindex
X-PUBLISHED-TTL:PT1H
BEGIN:VTIMEZONE
TZID:UTC
BEGIN:STANDARD
TZOFFSETFROM:+0000
TZOFFSETTO:+0000
TZNAME:UTC
DTSTART:20240101T000000
END:STANDARD
END:VTIMEZONE
BEGIN:VEVENT
DTSTART;TZID=UTC:20251129T100000
DTEND;TZID=UTC:20251129T190000
DTSTAMP:20260424T053909
CREATED:20250923T093320Z
LAST-MODIFIED:20250923T093320Z
UID:10024-1764410400-1764442800@tiraholm.se
SUMMARY:Wapnö julmarknad
DESCRIPTION:
URL:https://tiraholm.se/event/wapno-julmarknad-2/
END:VEVENT
BEGIN:VEVENT
DTSTART;TZID=UTC:20251128T120000
DTEND;TZID=UTC:20251128T170000
DTSTAMP:20260424T053909
CREATED:20240419T100415Z
LAST-MODIFIED:20250923T093200Z
UID:8054-1764331200-1764349200@tiraholm.se
SUMMARY:Burseryd
DESCRIPTION:
URL:https://tiraholm.se/event/burseryd-8/
END:VEVENT
BEGIN:VEVENT
DTSTART;TZID=UTC:20251128T110000
DTEND;TZID=UTC:20251128T190000
DTSTAMP:20260424T053909
CREATED:20250923T093250Z
LAST-MODIFIED:20250923T093250Z
UID:10022-1764327600-1764356400@tiraholm.se
SUMMARY:Wapnö julmarknad
DESCRIPTION:
URL:https://tiraholm.se/event/wapno-julmarknad/
END:VEVENT
BEGIN:VEVENT
DTSTART;TZID=UTC:20251127T120000
DTEND;TZID=UTC:20251127T173000
DTSTAMP:20260424T053909
CREATED:20240419T100339Z
LAST-MODIFIED:20250923T093138Z
UID:8052-1764244800-1764264600@tiraholm.se
SUMMARY:Gnosjö
DESCRIPTION:
URL:https://tiraholm.se/event/gnosjo-10/
END:VEVENT
BEGIN:VEVENT
DTSTART;TZID=UTC:20251123T120000
DTEND;TZID=UTC:20251123T180000
DTSTAMP:20260424T053909
CREATED:20240419T094722Z
LAST-MODIFIED:20250923T093037Z
UID:8008-1763899200-1763920800@tiraholm.se
SUMMARY:Vallarna julmarknad
DESCRIPTION:Falkenberg
URL:https://tiraholm.se/event/hyltebruk-3/
END:VEVENT
BEGIN:VEVENT
DTSTART;TZID=UTC:20251122T120000
DTEND;TZID=UTC:20251122T200000
DTSTAMP:20260424T053909
CREATED:20240419T100312Z
LAST-MODIFIED:20250923T093010Z
UID:8050-1763812800-1763841600@tiraholm.se
SUMMARY:Vallarna julmarknad
DESCRIPTION:Falkenberg
URL:https://tiraholm.se/event/vallarna/
END:VEVENT
BEGIN:VEVENT
DTSTART;TZID=UTC:20251121T120000
DTEND;TZID=UTC:20251121T170000
DTSTAMP:20260424T053909
CREATED:20240419T100015Z
LAST-MODIFIED:20250923T092833Z
UID:8042-1763726400-1763744400@tiraholm.se
SUMMARY:Anderstorp
DESCRIPTION:
URL:https://tiraholm.se/event/anderstorp-8/
END:VEVENT
BEGIN:VEVENT
DTSTART;TZID=UTC:20251120T120000
DTEND;TZID=UTC:20251120T170000
DTSTAMP:20260424T053909
CREATED:20240419T100228Z
LAST-MODIFIED:20250923T092804Z
UID:8048-1763640000-1763658000@tiraholm.se
SUMMARY:Forsheda
DESCRIPTION:
URL:https://tiraholm.se/event/forsheda-10/
END:VEVENT
BEGIN:VEVENT
DTSTART;TZID=UTC:20251116T100000
DTEND;TZID=UTC:20251116T170000
DTSTAMP:20260424T053909
CREATED:20240419T095141Z
LAST-MODIFIED:20250923T092737Z
UID:8022-1763287200-1763312400@tiraholm.se
SUMMARY:Segerstad julmarknad
DESCRIPTION:
URL:https://tiraholm.se/event/varberg-2/
END:VEVENT
BEGIN:VEVENT
DTSTART;TZID=UTC:20251115T100000
DTEND;TZID=UTC:20251115T170000
DTSTAMP:20260424T053909
CREATED:20240419T100050Z
LAST-MODIFIED:20250923T092715Z
UID:8044-1763200800-1763226000@tiraholm.se
SUMMARY:Segerstad julmarknad
DESCRIPTION:
URL:https://tiraholm.se/event/segerstad/
END:VEVENT
BEGIN:VEVENT
DTSTART;TZID=UTC:20251114T123000
DTEND;TZID=UTC:20251114T170000
DTSTAMP:20260424T053909
CREATED:20240419T095732Z
LAST-MODIFIED:20250618T125631Z
UID:8034-1763123400-1763139600@tiraholm.se
SUMMARY:Älvsered
DESCRIPTION:
URL:https://tiraholm.se/event/alvsered-9/
END:VEVENT
BEGIN:VEVENT
DTSTART;TZID=UTC:20251113T120000
DTEND;TZID=UTC:20251113T170000
DTSTAMP:20260424T053910
CREATED:20240419T095654Z
LAST-MODIFIED:20250828T122852Z
UID:8032-1763035200-1763053200@tiraholm.se
SUMMARY:Gislaved
DESCRIPTION:
URL:https://tiraholm.se/event/gislaved-10/
END:VEVENT
BEGIN:VEVENT
DTSTART;TZID=UTC:20251112T120000
DTEND;TZID=UTC:20251112T200000
DTSTAMP:20260424T053910
CREATED:20250923T092418Z
LAST-MODIFIED:20250923T092628Z
UID:10010-1762948800-1762977600@tiraholm.se
SUMMARY:Harplinge
DESCRIPTION:Julmarknad på lantmännen
URL:https://tiraholm.se/event/harplinge/
END:VEVENT
BEGIN:VEVENT
DTSTART;TZID=UTC:20251112T080000
DTEND;TZID=UTC:20251112T130000
DTSTAMP:20260424T053910
CREATED:20240419T095844Z
LAST-MODIFIED:20250729T113948Z
UID:8038-1762934400-1762952400@tiraholm.se
SUMMARY:Unnaryd
DESCRIPTION:
URL:https://tiraholm.se/event/unnaryd-9/
END:VEVENT
BEGIN:VEVENT
DTSTART;TZID=UTC:20251108T100000
DTEND;TZID=UTC:20251108T150000
DTSTAMP:20260424T053910
CREATED:20240419T100122Z
LAST-MODIFIED:20250923T092014Z
UID:8046-1762596000-1762614000@tiraholm.se
SUMMARY:Halmstad
DESCRIPTION:Stora Torg
URL:https://tiraholm.se/event/halmstad-18/
END:VEVENT
BEGIN:VEVENT
DTSTART;TZID=UTC:20251108T080000
DTEND;TZID=UTC:20251108T140000
DTSTAMP:20260424T053910
CREATED:20240419T095801Z
LAST-MODIFIED:20250925T120213Z
UID:8036-1762588800-1762610400@tiraholm.se
SUMMARY:Falkenberg
DESCRIPTION:
URL:https://tiraholm.se/event/falkenberg-11/
END:VEVENT
BEGIN:VEVENT
DTSTART;TZID=UTC:20251107T130000
DTEND;TZID=UTC:20251107T170000
DTSTAMP:20260424T053910
CREATED:20240419T095357Z
LAST-MODIFIED:20250618T103816Z
UID:8024-1762520400-1762534800@tiraholm.se
SUMMARY:Hyltebruk
DESCRIPTION:
URL:https://tiraholm.se/event/hyltebruk-4/
END:VEVENT
BEGIN:VEVENT
DTSTART;TZID=UTC:20251106T080000
DTEND;TZID=UTC:20251106T150000
DTSTAMP:20260424T053910
CREATED:20240419T095615Z
LAST-MODIFIED:20250923T091856Z
UID:8030-1762416000-1762441200@tiraholm.se
SUMMARY:Kungsbacka
DESCRIPTION:
URL:https://tiraholm.se/event/kungsbacka-9/
END:VEVENT
BEGIN:VEVENT
DTSTART;TZID=UTC:20251031T120000
DTEND;TZID=UTC:20251031T170000
DTSTAMP:20260424T053910
CREATED:20240419T094917Z
LAST-MODIFIED:20250925T120140Z
UID:8014-1761912000-1761930000@tiraholm.se
SUMMARY:Burseryd
DESCRIPTION:Lantmännen
URL:https://tiraholm.se/event/burseryd-7/
END:VEVENT
BEGIN:VEVENT
DTSTART;TZID=UTC:20251030T120000
DTEND;TZID=UTC:20251030T173000
DTSTAMP:20260424T053910
CREATED:20250925T120040Z
LAST-MODIFIED:20250925T120102Z
UID:10051-1761825600-1761845400@tiraholm.se
SUMMARY:Gnosjö
DESCRIPTION:vid ICA
URL:https://tiraholm.se/event/gnosjo-15/
END:VEVENT
BEGIN:VEVENT
DTSTART;TZID=UTC:20251025T100000
DTEND;TZID=UTC:20251025T160000
DTSTAMP:20260424T053910
CREATED:20240419T095043Z
LAST-MODIFIED:20250923T091759Z
UID:8018-1761386400-1761408000@tiraholm.se
SUMMARY:Värnamo
DESCRIPTION:Friveckelörda \nVi står vid bron över Lagan.
URL:https://tiraholm.se/event/varnamo-4/
END:VEVENT
BEGIN:VEVENT
DTSTART;TZID=UTC:20251025T100000
DTEND;TZID=UTC:20251025T140000
DTSTAMP:20260424T053910
CREATED:20250923T091720Z
LAST-MODIFIED:20250923T091720Z
UID:9997-1761386400-1761400800@tiraholm.se
SUMMARY:Laholm
DESCRIPTION:
URL:https://tiraholm.se/event/laholm-7/
END:VEVENT
BEGIN:VEVENT
DTSTART;TZID=UTC:20251018T100000
DTEND;TZID=UTC:20251018T150000
DTSTAMP:20260424T053910
CREATED:20240419T095442Z
LAST-MODIFIED:20250729T113549Z
UID:8026-1760781600-1760799600@tiraholm.se
SUMMARY:Halmstad
DESCRIPTION:
URL:https://tiraholm.se/event/halmstad-17/
END:VEVENT
BEGIN:VEVENT
DTSTART;TZID=UTC:20251017T120000
DTEND;TZID=UTC:20251017T170000
DTSTAMP:20260424T053910
CREATED:20240419T094645Z
LAST-MODIFIED:20250923T091653Z
UID:8006-1760702400-1760720400@tiraholm.se
SUMMARY:Anderstorp
DESCRIPTION:
URL:https://tiraholm.se/event/anderstorp-7/
END:VEVENT
BEGIN:VEVENT
DTSTART;TZID=UTC:20251016T120000
DTEND;TZID=UTC:20251016T170000
DTSTAMP:20260424T053910
CREATED:20240419T094608Z
LAST-MODIFIED:20250923T091615Z
UID:8004-1760616000-1760634000@tiraholm.se
SUMMARY:Forsheda
DESCRIPTION:
URL:https://tiraholm.se/event/forsheda-9/
END:VEVENT
BEGIN:VEVENT
DTSTART;TZID=UTC:20251015T100000
DTEND;TZID=UTC:20251015T180000
DTSTAMP:20260424T053910
CREATED:20250923T091547Z
LAST-MODIFIED:20250923T091547Z
UID:9993-1760522400-1760551200@tiraholm.se
SUMMARY:Falkenbergs marknad
DESCRIPTION:
URL:https://tiraholm.se/event/falkenbergs-marknad/
END:VEVENT
BEGIN:VEVENT
DTSTART;TZID=UTC:20251011T090000
DTEND;TZID=UTC:20251011T130000
DTSTAMP:20260424T053910
CREATED:20240419T094422Z
LAST-MODIFIED:20250828T125938Z
UID:7998-1760173200-1760187600@tiraholm.se
SUMMARY:Älvsered
DESCRIPTION:
URL:https://tiraholm.se/event/alvsered-8/
END:VEVENT
BEGIN:VEVENT
DTSTART;TZID=UTC:20251011T080000
DTEND;TZID=UTC:20251011T140000
DTSTAMP:20260424T053910
CREATED:20240419T094532Z
LAST-MODIFIED:20250923T091507Z
UID:8002-1760169600-1760191200@tiraholm.se
SUMMARY:Falkenberg
DESCRIPTION:Rörbecksplatsen
URL:https://tiraholm.se/event/falkenberg-10/
END:VEVENT
BEGIN:VEVENT
DTSTART;TZID=UTC:20251009T120000
DTEND;TZID=UTC:20251009T170000
DTSTAMP:20260424T053910
CREATED:20240419T094331Z
LAST-MODIFIED:20250828T122824Z
UID:7996-1760011200-1760029200@tiraholm.se
SUMMARY:Gislaved
DESCRIPTION:
URL:https://tiraholm.se/event/gislaved-9/
END:VEVENT
BEGIN:VEVENT
DTSTART;TZID=UTC:20251008T170000
DTEND;TZID=UTC:20251008T183000
DTSTAMP:20260424T053910
CREATED:20240302T140723Z
LAST-MODIFIED:20250923T120432Z
UID:7510-1759942800-1759948200@tiraholm.se
SUMMARY:Växjö- rekomarknad
DESCRIPTION:Stortorget
URL:https://tiraholm.se/event/vaxjo/
END:VEVENT
END:VCALENDAR