BEGIN:VCALENDAR
VERSION:2.0
PRODID:-//Tiraholms fisk - ECPv6.15.20//NONSGML v1.0//EN
CALSCALE:GREGORIAN
METHOD:PUBLISH
X-ORIGINAL-URL:https://tiraholm.se
X-WR-CALDESC:Händelser för Tiraholms fisk
REFRESH-INTERVAL;VALUE=DURATION:PT1H
X-Robots-Tag:noindex
X-PUBLISHED-TTL:PT1H
BEGIN:VTIMEZONE
TZID:UTC
BEGIN:STANDARD
TZOFFSETFROM:+0000
TZOFFSETTO:+0000
TZNAME:UTC
DTSTART:20220101T000000
END:STANDARD
END:VTIMEZONE
BEGIN:VEVENT
DTSTART;TZID=UTC:20240420T100000
DTEND;TZID=UTC:20240420T170000
DTSTAMP:20260425T132623
CREATED:20240206T094725Z
LAST-MODIFIED:20240206T094725Z
UID:7150-1713607200-1713632400@tiraholm.se
SUMMARY:Åkulla
DESCRIPTION:Sportfiskemässa i Åkulla outdoor resort
URL:https://tiraholm.se/event/akulla/
END:VEVENT
BEGIN:VEVENT
DTSTART;TZID=UTC:20240420T100000
DTEND;TZID=UTC:20240420T150000
DTSTAMP:20260425T132623
CREATED:20240125T080607Z
LAST-MODIFIED:20240125T080607Z
UID:7033-1713607200-1713625200@tiraholm.se
SUMMARY:Halmstad
DESCRIPTION:
URL:https://tiraholm.se/event/halmstad-6/
LOCATION:Halmstad Stora torg\, köpmansgatan 3\, Halmstad\, 302 43
END:VEVENT
BEGIN:VEVENT
DTSTART;TZID=UTC:20240417T100000
DTEND;TZID=UTC:20240417T160000
DTSTAMP:20260425T132623
CREATED:20240125T080228Z
LAST-MODIFIED:20240125T080228Z
UID:7025-1713348000-1713369600@tiraholm.se
SUMMARY:Falkenberg
DESCRIPTION:Falkenberg marknad
URL:https://tiraholm.se/event/falkenberg-3/
END:VEVENT
BEGIN:VEVENT
DTSTART;TZID=UTC:20240406T100000
DTEND;TZID=UTC:20240406T150000
DTSTAMP:20260425T132623
CREATED:20240125T075643Z
LAST-MODIFIED:20240125T075643Z
UID:7013-1712397600-1712415600@tiraholm.se
SUMMARY:Halmstad
DESCRIPTION:
URL:https://tiraholm.se/event/halmstad-5/
LOCATION:Halmstad Stora torg\, köpmansgatan 3\, Halmstad\, 302 43
END:VEVENT
BEGIN:VEVENT
DTSTART;TZID=UTC:20240405T130000
DTEND;TZID=UTC:20240405T170000
DTSTAMP:20260425T132623
CREATED:20240125T075505Z
LAST-MODIFIED:20240125T075505Z
UID:7009-1712322000-1712336400@tiraholm.se
SUMMARY:Hylte
DESCRIPTION:
URL:https://tiraholm.se/event/hylte-3/
LOCATION:Hyltebruk G:a hallen\, Skolgatan 1\, Hyltebruk\, 314 31
END:VEVENT
BEGIN:VEVENT
DTSTART;TZID=UTC:20240329T100000
DTEND;TZID=UTC:20240329T150000
DTSTAMP:20260425T132623
CREATED:20240125T074712Z
LAST-MODIFIED:20240125T074712Z
UID:6996-1711706400-1711724400@tiraholm.se
SUMMARY:Halmstad
DESCRIPTION:
URL:https://tiraholm.se/event/halmstad-3/
LOCATION:Halmstad Stora torg\, köpmansgatan 3\, Halmstad\, 302 43
END:VEVENT
BEGIN:VEVENT
DTSTART;TZID=UTC:20240328T130000
DTEND;TZID=UTC:20240328T170000
DTSTAMP:20260425T132623
CREATED:20240125T074546Z
LAST-MODIFIED:20240125T074546Z
UID:6992-1711630800-1711645200@tiraholm.se
SUMMARY:Hylte
DESCRIPTION:
URL:https://tiraholm.se/event/hylte-2/
LOCATION:Halmstad Stora torg\, köpmansgatan 3\, Halmstad\, 302 43
END:VEVENT
BEGIN:VEVENT
DTSTART;TZID=UTC:20240327T180000
DTEND;TZID=UTC:20240327T183000
DTSTAMP:20260425T132623
CREATED:20240302T140602Z
LAST-MODIFIED:20240302T140602Z
UID:7506-1711562400-1711564200@tiraholm.se
SUMMARY:Gislaved
DESCRIPTION:Rekoringen
URL:https://tiraholm.se/event/gislaved-3/
END:VEVENT
BEGIN:VEVENT
DTSTART;TZID=UTC:20240316T100000
DTEND;TZID=UTC:20240316T150000
DTSTAMP:20260425T132623
CREATED:20240125T072959Z
LAST-MODIFIED:20240125T072959Z
UID:6978-1710583200-1710601200@tiraholm.se
SUMMARY:Halmstad
DESCRIPTION:
URL:https://tiraholm.se/event/halmstad-2/
LOCATION:Halmstad Stora torg\, köpmansgatan 3\, Halmstad\, 302 43
END:VEVENT
BEGIN:VEVENT
DTSTART;TZID=UTC:20240315T130000
DTEND;TZID=UTC:20240315T170000
DTSTAMP:20260425T132623
CREATED:20240131T101909Z
LAST-MODIFIED:20240131T101909Z
UID:7106-1710507600-1710522000@tiraholm.se
SUMMARY:Hylte
DESCRIPTION:
URL:https://tiraholm.se/event/hylte-5/
LOCATION:Hyltebruk G:a hallen\, Skolgatan 1\, Hyltebruk\, 314 31
END:VEVENT
BEGIN:VEVENT
DTSTART;TZID=UTC:20240307T100000
DTEND;TZID=UTC:20240307T150000
DTSTAMP:20260425T132623
CREATED:20240125T101507Z
LAST-MODIFIED:20240206T073727Z
UID:6962-1709805600-1709823600@tiraholm.se
SUMMARY:Kungsbacka
DESCRIPTION:
URL:https://tiraholm.se/event/kungsbacka/
LOCATION:Kungsbacka\, Kungsbacka Torg
END:VEVENT
BEGIN:VEVENT
DTSTART;TZID=UTC:20240302T100000
DTEND;TZID=UTC:20240302T150000
DTSTAMP:20260425T132623
CREATED:20240125T072331Z
LAST-MODIFIED:20240125T072331Z
UID:6960-1709373600-1709391600@tiraholm.se
SUMMARY:Halmstad
DESCRIPTION:
URL:https://tiraholm.se/event/halmstad/
LOCATION:Halmstad Stora torg\, köpmansgatan 3\, Halmstad\, 302 43
END:VEVENT
BEGIN:VEVENT
DTSTART;TZID=UTC:20240301T130000
DTEND;TZID=UTC:20240301T170000
DTSTAMP:20260425T132623
CREATED:20240125T072248Z
LAST-MODIFIED:20240125T072248Z
UID:6958-1709298000-1709312400@tiraholm.se
SUMMARY:Hylte
DESCRIPTION:
URL:https://tiraholm.se/event/hylte/
LOCATION:Hyltebruk G:a hallen\, Skolgatan 1\, Hyltebruk\, 314 31
END:VEVENT
BEGIN:VEVENT
DTSTART;TZID=UTC:20240217T100000
DTEND;TZID=UTC:20240217T150000
DTSTAMP:20260425T132623
CREATED:20240124T110719Z
LAST-MODIFIED:20240125T071810Z
UID:6912-1708164000-1708182000@tiraholm.se
SUMMARY:Halmstad
DESCRIPTION:
URL:https://tiraholm.se/event/fiskbil-halmstad-2/
LOCATION:Halmstad Stora torg\, köpmansgatan 3\, Halmstad\, 302 43
END:VEVENT
BEGIN:VEVENT
DTSTART;TZID=UTC:20240216T130000
DTEND;TZID=UTC:20240216T170000
DTSTAMP:20260425T132623
CREATED:20240131T101438Z
LAST-MODIFIED:20240131T101452Z
UID:7102-1708088400-1708102800@tiraholm.se
SUMMARY:Hylte
DESCRIPTION:
URL:https://tiraholm.se/event/hylte-4/
LOCATION:Hyltebruk G:a hallen\, Skolgatan 1\, Hyltebruk\, 314 31
END:VEVENT
BEGIN:VEVENT
DTSTART;TZID=UTC:20240215T120000
DTEND;TZID=UTC:20240215T170000
DTSTAMP:20260425T132623
CREATED:20240126T110904Z
LAST-MODIFIED:20240213T094921Z
UID:7075-1707998400-1708016400@tiraholm.se
SUMMARY:Forsheda
DESCRIPTION:
URL:https://tiraholm.se/event/forsheda-3/
LOCATION:Forsheda\, Brogatan 4\, Forsheda\, 33171
END:VEVENT
BEGIN:VEVENT
DTSTART;TZID=UTC:20240210T080000
DTEND;TZID=UTC:20240210T140000
DTSTAMP:20260425T132623
CREATED:20240124T105140Z
LAST-MODIFIED:20240125T071849Z
UID:6896-1707552000-1707573600@tiraholm.se
SUMMARY:Falkenberg
DESCRIPTION:
URL:https://tiraholm.se/event/fiskbil-falkenberg/
LOCATION:Falkenberg\, Nygatan 27\, falkenberg\, 31145
END:VEVENT
BEGIN:VEVENT
DTSTART;TZID=UTC:20240203T100000
DTEND;TZID=UTC:20240203T150000
DTSTAMP:20260425T132623
CREATED:20240124T104130Z
LAST-MODIFIED:20240125T071952Z
UID:6889-1706954400-1706972400@tiraholm.se
SUMMARY:Halmstad
DESCRIPTION:
URL:https://tiraholm.se/event/fiskbil-halmstad/
LOCATION:Halmstad Stora torg\, köpmansgatan 3\, Halmstad\, 302 43
END:VEVENT
BEGIN:VEVENT
DTSTART;TZID=UTC:20240202T130000
DTEND;TZID=UTC:20240202T170000
DTSTAMP:20260425T132623
CREATED:20240124T103559Z
LAST-MODIFIED:20240125T072014Z
UID:6884-1706878800-1706893200@tiraholm.se
SUMMARY:Hylte
DESCRIPTION:
URL:https://tiraholm.se/event/fiskbil-hylte/
LOCATION:Hyltebruk G:a hallen\, Skolgatan 1\, Hyltebruk\, 314 31
END:VEVENT
BEGIN:VEVENT
DTSTART;TZID=UTC:20230118T100000
DTEND;TZID=UTC:20230118T100000
DTSTAMP:20260425T132623
CREATED:20230103T091643Z
LAST-MODIFIED:20230103T102442Z
UID:411-1674036000-1674036000@tiraholm.se
SUMMARY:Fiskbilen
DESCRIPTION:
URL:https://tiraholm.se/event/fiskbilen-4/
LOCATION:Halmstad Stora torg\, köpmansgatan 3\, Halmstad\, 302 43
END:VEVENT
BEGIN:VEVENT
DTSTART;TZID=UTC:20230116T100000
DTEND;TZID=UTC:20230116T113000
DTSTAMP:20260425T132623
CREATED:20230103T091644Z
LAST-MODIFIED:20230103T102453Z
UID:414-1673863200-1673868600@tiraholm.se
SUMMARY:Fiskbilen
DESCRIPTION:
URL:https://tiraholm.se/event/fiskbilen-7/
LOCATION:Halmstad Stora torg\, köpmansgatan 3\, Halmstad\, 302 43
END:VEVENT
END:VCALENDAR