BEGIN:VCALENDAR
VERSION:2.0
PRODID:-//Tiraholms fisk - ECPv6.15.20//NONSGML v1.0//EN
CALSCALE:GREGORIAN
METHOD:PUBLISH
X-WR-CALNAME:Tiraholms fisk
X-ORIGINAL-URL:https://tiraholm.se
X-WR-CALDESC:Händelser för Tiraholms fisk
REFRESH-INTERVAL;VALUE=DURATION:PT1H
X-Robots-Tag:noindex
X-PUBLISHED-TTL:PT1H
BEGIN:VTIMEZONE
TZID:UTC
BEGIN:STANDARD
TZOFFSETFROM:+0000
TZOFFSETTO:+0000
TZNAME:UTC
DTSTART:20230101T000000
END:STANDARD
END:VTIMEZONE
BEGIN:VEVENT
DTSTART;TZID=UTC:20250410T120000
DTEND;TZID=UTC:20250410T170000
DTSTAMP:20260425T031100
CREATED:20240125T080328Z
LAST-MODIFIED:20250311T134628Z
UID:7027-1744286400-1744304400@tiraholm.se
SUMMARY:Forsheda
DESCRIPTION:vid ICA
URL:https://tiraholm.se/event/forsheda-2/
LOCATION:Forsheda\, Brogatan 4\, Forsheda\, 33171
END:VEVENT
BEGIN:VEVENT
DTSTART;TZID=UTC:20250409T170000
DTEND;TZID=UTC:20250409T183000
DTSTAMP:20260425T031100
CREATED:20250225T133009Z
LAST-MODIFIED:20250225T133009Z
UID:9232-1744218000-1744223400@tiraholm.se
SUMMARY:Växjö- rekomarknad
DESCRIPTION:Reko-ring och matmarknad. Direktförsäljning och utlämning av förbeställda varor.
URL:https://tiraholm.se/event/vaxjo-rekomarknad/
END:VEVENT
BEGIN:VEVENT
DTSTART;TZID=UTC:20250409T080000
DTEND;TZID=UTC:20250409T130000
DTSTAMP:20260425T031100
CREATED:20240125T075801Z
LAST-MODIFIED:20250225T133209Z
UID:7017-1744185600-1744203600@tiraholm.se
SUMMARY:Unnaryd
DESCRIPTION:
URL:https://tiraholm.se/event/unnaryd-2/
END:VEVENT
BEGIN:VEVENT
DTSTART;TZID=UTC:20250405T110000
DTEND;TZID=UTC:20250405T170000
DTSTAMP:20260425T031100
CREATED:20250225T132748Z
LAST-MODIFIED:20250225T132748Z
UID:9228-1743850800-1743872400@tiraholm.se
SUMMARY:Påskmarknad Tiraholm
DESCRIPTION:över 30 utställare på gården! Mat- och konsthantverk. \nPassa även på att handla fiskdelikatesserna till påskbordet. \nRestaurang och glasscafé öppna!
URL:https://tiraholm.se/event/paskmarknad-tiraholm/
END:VEVENT
BEGIN:VEVENT
DTSTART;TZID=UTC:20250405T100000
DTEND;TZID=UTC:20250405T150000
DTSTAMP:20260425T031100
CREATED:20240410T121256Z
LAST-MODIFIED:20250225T132055Z
UID:7781-1743847200-1743865200@tiraholm.se
SUMMARY:Halmstad
DESCRIPTION:Stora Torg
URL:https://tiraholm.se/event/halmstad-11/
END:VEVENT
BEGIN:VEVENT
DTSTART;TZID=UTC:20250405T090000
DTEND;TZID=UTC:20250405T140000
DTSTAMP:20260425T031100
CREATED:20250311T134454Z
LAST-MODIFIED:20250311T134454Z
UID:9307-1743843600-1743861600@tiraholm.se
SUMMARY:Tranemo
DESCRIPTION:
URL:https://tiraholm.se/event/tranemo/
END:VEVENT
BEGIN:VEVENT
DTSTART;TZID=UTC:20250404T130000
DTEND;TZID=UTC:20250404T170000
DTSTAMP:20260425T031100
CREATED:20240131T102521Z
LAST-MODIFIED:20250225T132015Z
UID:7114-1743771600-1743786000@tiraholm.se
SUMMARY:Hyltebruk
DESCRIPTION:Vid Gamla Hallen
URL:https://tiraholm.se/event/hylte-6/
END:VEVENT
BEGIN:VEVENT
DTSTART;TZID=UTC:20250404T100000
DTEND;TZID=UTC:20250404T170000
DTSTAMP:20260425T031100
CREATED:20250225T132533Z
LAST-MODIFIED:20250324T082814Z
UID:9226-1743760800-1743786000@tiraholm.se
SUMMARY:Ljungby
DESCRIPTION:Marknad
URL:https://tiraholm.se/event/ljungby-5/
END:VEVENT
BEGIN:VEVENT
DTSTART;TZID=UTC:20250403T120000
DTEND;TZID=UTC:20250403T170000
DTSTAMP:20260425T031100
CREATED:20250225T130626Z
LAST-MODIFIED:20250225T130626Z
UID:9214-1743681600-1743699600@tiraholm.se
SUMMARY:Habo
DESCRIPTION:Vid ICA
URL:https://tiraholm.se/event/habo-7/
END:VEVENT
BEGIN:VEVENT
DTSTART;TZID=UTC:20250403T090000
DTEND;TZID=UTC:20250403T150000
DTSTAMP:20260425T031100
CREATED:20240125T075415Z
LAST-MODIFIED:20250225T130800Z
UID:7007-1743670800-1743692400@tiraholm.se
SUMMARY:Kungsbacka
DESCRIPTION:
URL:https://tiraholm.se/event/kungsbacka-2/
LOCATION:Kungsbacka\, Kungsbacka Torg
END:VEVENT
BEGIN:VEVENT
DTSTART;TZID=UTC:20250402T100000
DTEND;TZID=UTC:20250402T180000
DTSTAMP:20260425T031100
CREATED:20250225T130709Z
LAST-MODIFIED:20250225T130709Z
UID:9216-1743588000-1743616800@tiraholm.se
SUMMARY:Älmhults marknad
DESCRIPTION:
URL:https://tiraholm.se/event/almhults-marknad/
END:VEVENT
BEGIN:VEVENT
DTSTART;TZID=UTC:20250329T100000
DTEND;TZID=UTC:20250329T160000
DTSTAMP:20260425T031100
CREATED:20240302T140643Z
LAST-MODIFIED:20250225T130410Z
UID:7508-1743242400-1743264000@tiraholm.se
SUMMARY:Värnamo
DESCRIPTION:”Massmötet”
URL:https://tiraholm.se/event/varnamo-2/
END:VEVENT
BEGIN:VEVENT
DTSTART;TZID=UTC:20250328T120000
DTEND;TZID=UTC:20250328T170000
DTSTAMP:20260425T031100
CREATED:20240125T073229Z
LAST-MODIFIED:20250225T130239Z
UID:6984-1743163200-1743181200@tiraholm.se
SUMMARY:Burseryd
DESCRIPTION:Vid Lantmännen
URL:https://tiraholm.se/event/burseryd/
END:VEVENT
BEGIN:VEVENT
DTSTART;TZID=UTC:20250327T120000
DTEND;TZID=UTC:20250327T180000
DTSTAMP:20260425T031100
CREATED:20240302T135444Z
LAST-MODIFIED:20250225T130136Z
UID:7502-1743076800-1743098400@tiraholm.se
SUMMARY:Gnosjö
DESCRIPTION:Vid ICA
URL:https://tiraholm.se/event/gnosjo/
END:VEVENT
BEGIN:VEVENT
DTSTART;TZID=UTC:20250322T100000
DTEND;TZID=UTC:20250322T150000
DTSTAMP:20260425T031100
CREATED:20241114T080717Z
LAST-MODIFIED:20250311T135401Z
UID:8960-1742637600-1742655600@tiraholm.se
SUMMARY:Halmstad
DESCRIPTION:Stora torg
URL:https://tiraholm.se/event/halmstad-23/
END:VEVENT
BEGIN:VEVENT
DTSTART;TZID=UTC:20250321T120000
DTEND;TZID=UTC:20250321T170000
DTSTAMP:20260425T031100
CREATED:20240125T072839Z
LAST-MODIFIED:20250225T130106Z
UID:6974-1742558400-1742576400@tiraholm.se
SUMMARY:Anderstorp
DESCRIPTION:Vid ICA
URL:https://tiraholm.se/event/anderstorp/
LOCATION:Anderstorp\, Storgatan 18\, Anderstorp\, 33433
END:VEVENT
BEGIN:VEVENT
DTSTART;TZID=UTC:20250320T120000
DTEND;TZID=UTC:20250320T170000
DTSTAMP:20260425T031100
CREATED:20240125T073119Z
LAST-MODIFIED:20250225T125755Z
UID:6982-1742472000-1742490000@tiraholm.se
SUMMARY:Forsheda
DESCRIPTION:Vid ICA
URL:https://tiraholm.se/event/forsheda/
LOCATION:Forsheda\, Brogatan 4\, Forsheda\, 33171
END:VEVENT
BEGIN:VEVENT
DTSTART;TZID=UTC:20250319T080000
DTEND;TZID=UTC:20250319T150000
DTSTAMP:20260425T031100
CREATED:20250225T125725Z
LAST-MODIFIED:20250225T125725Z
UID:9205-1742371200-1742396400@tiraholm.se
SUMMARY:Varberg
DESCRIPTION:Preliminärt
URL:https://tiraholm.se/event/varberg-3/
END:VEVENT
BEGIN:VEVENT
DTSTART;TZID=UTC:20250315T100000
DTEND;TZID=UTC:20250315T150000
DTSTAMP:20260425T031100
CREATED:20250225T125010Z
LAST-MODIFIED:20250225T125010Z
UID:9192-1742032800-1742050800@tiraholm.se
SUMMARY:Halmstad
DESCRIPTION:Stora Torg
URL:https://tiraholm.se/event/halmstad-25/
END:VEVENT
BEGIN:VEVENT
DTSTART;TZID=UTC:20250314T120000
DTEND;TZID=UTC:20250314T170000
DTSTAMP:20260425T031100
CREATED:20240125T072440Z
LAST-MODIFIED:20250225T125528Z
UID:6964-1741953600-1741971600@tiraholm.se
SUMMARY:Gislaved
DESCRIPTION:vid Systembolaget
URL:https://tiraholm.se/event/gislaved/
LOCATION:Gislaved\, Köpmangatan 4\, Gislaved\, 33230\, Sverige
END:VEVENT
BEGIN:VEVENT
DTSTART;TZID=UTC:20250314T120000
DTEND;TZID=UTC:20250314T170000
DTSTAMP:20260425T031100
CREATED:20240131T101742Z
LAST-MODIFIED:20250225T125614Z
UID:7104-1741953600-1741971600@tiraholm.se
SUMMARY:Älvsered
DESCRIPTION:
URL:https://tiraholm.se/event/alvsered/
END:VEVENT
BEGIN:VEVENT
DTSTART;TZID=UTC:20250312T080000
DTEND;TZID=UTC:20250312T130000
DTSTAMP:20260425T031100
CREATED:20240125T072740Z
LAST-MODIFIED:20250225T125442Z
UID:6972-1741766400-1741784400@tiraholm.se
SUMMARY:Unnaryd
DESCRIPTION:Marknadsplatsen
URL:https://tiraholm.se/event/unnaryd/
END:VEVENT
BEGIN:VEVENT
DTSTART;TZID=UTC:20250310T080000
DTEND;TZID=UTC:20250310T170000
DTSTAMP:20260425T031100
CREATED:20250310T120959Z
LAST-MODIFIED:20250310T120959Z
UID:9280-1741593600-1741626000@tiraholm.se
SUMMARY:Falkenberg
DESCRIPTION:Vårmarknad på Stora Torg
URL:https://tiraholm.se/event/falkenberg-13/
END:VEVENT
BEGIN:VEVENT
DTSTART;TZID=UTC:20250308T090000
DTEND;TZID=UTC:20250308T140000
DTSTAMP:20260425T031100
CREATED:20240125T072534Z
LAST-MODIFIED:20250225T125352Z
UID:6966-1741424400-1741442400@tiraholm.se
SUMMARY:Falkenberg
DESCRIPTION:Rörbecksplatsen
URL:https://tiraholm.se/event/falkenberg/
LOCATION:Falkenberg\, Nygatan 27\, falkenberg\, 31145
END:VEVENT
BEGIN:VEVENT
DTSTART;TZID=UTC:20250307T130000
DTEND;TZID=UTC:20250307T170000
DTSTAMP:20260425T031100
CREATED:20250225T125306Z
LAST-MODIFIED:20250225T125306Z
UID:9200-1741352400-1741366800@tiraholm.se
SUMMARY:Hyltebruk
DESCRIPTION:Vid gamla Hallen
URL:https://tiraholm.se/event/hyltebruk-10/
END:VEVENT
BEGIN:VEVENT
DTSTART;TZID=UTC:20250306T120000
DTEND;TZID=UTC:20250306T170000
DTSTAMP:20260425T031100
CREATED:20250225T125235Z
LAST-MODIFIED:20250225T125235Z
UID:9198-1741262400-1741280400@tiraholm.se
SUMMARY:Habo
DESCRIPTION:vid Ica
URL:https://tiraholm.se/event/habo-6/
END:VEVENT
BEGIN:VEVENT
DTSTART;TZID=UTC:20250306T090000
DTEND;TZID=UTC:20250306T150000
DTSTAMP:20260425T031100
CREATED:20250203T085516Z
LAST-MODIFIED:20250225T125133Z
UID:6879-1741251600-1741273200@tiraholm.se
SUMMARY:Kungsbacka
DESCRIPTION:På torget
URL:https://tiraholm.se/event/fiskbil-i-kungsbacka/
END:VEVENT
BEGIN:VEVENT
DTSTART;TZID=UTC:20250301T100000
DTEND;TZID=UTC:20250301T150000
DTSTAMP:20260425T031100
CREATED:20250225T124941Z
LAST-MODIFIED:20250225T124941Z
UID:9190-1740823200-1740841200@tiraholm.se
SUMMARY:Halmstad
DESCRIPTION:Stora Torg
URL:https://tiraholm.se/event/halmstad-24/
END:VEVENT
BEGIN:VEVENT
DTSTART;TZID=UTC:20250301T100000
DTEND;TZID=UTC:20250301T150000
DTSTAMP:20260425T031100
CREATED:20250225T125044Z
LAST-MODIFIED:20250225T125044Z
UID:9194-1740823200-1740841200@tiraholm.se
SUMMARY:Ryssby
DESCRIPTION:Matmässa på gymnasieskolan
URL:https://tiraholm.se/event/ryssby/
END:VEVENT
BEGIN:VEVENT
DTSTART;TZID=UTC:20241206T120000
DTEND;TZID=UTC:20241206T170000
DTSTAMP:20260425T031100
CREATED:20240419T100731Z
LAST-MODIFIED:20240419T100731Z
UID:8064-1733486400-1733504400@tiraholm.se
SUMMARY:Habo
DESCRIPTION:
URL:https://tiraholm.se/event/habo-5/
END:VEVENT
END:VCALENDAR