BEGIN:VCALENDAR
VERSION:2.0
PRODID:-//Tiraholms fisk - ECPv6.15.20//NONSGML v1.0//EN
CALSCALE:GREGORIAN
METHOD:PUBLISH
X-WR-CALNAME:Tiraholms fisk
X-ORIGINAL-URL:https://tiraholm.se
X-WR-CALDESC:Händelser för Tiraholms fisk
REFRESH-INTERVAL;VALUE=DURATION:PT1H
X-Robots-Tag:noindex
X-PUBLISHED-TTL:PT1H
BEGIN:VTIMEZONE
TZID:UTC
BEGIN:STANDARD
TZOFFSETFROM:+0000
TZOFFSETTO:+0000
TZNAME:UTC
DTSTART:20250101T000000
END:STANDARD
END:VTIMEZONE
BEGIN:VEVENT
DTSTART;TZID=UTC:20260402T130000
DTEND;TZID=UTC:20260402T170000
DTSTAMP:20260423T154236
CREATED:20260128T105614Z
LAST-MODIFIED:20260128T105614Z
UID:10313-1775134800-1775149200@tiraholm.se
SUMMARY:Hyltebruk
DESCRIPTION:Vid ICA
URL:https://tiraholm.se/event/hyltebruk-13/
END:VEVENT
BEGIN:VEVENT
DTSTART;TZID=UTC:20260402T090000
DTEND;TZID=UTC:20260402T120000
DTSTAMP:20260423T154236
CREATED:20260312T074603Z
LAST-MODIFIED:20260312T074603Z
UID:10978-1775120400-1775131200@tiraholm.se
SUMMARY:Lidhult
DESCRIPTION:Vid Lidhults Bygg och Lantmän
URL:https://tiraholm.se/event/lidhult-4/
END:VEVENT
BEGIN:VEVENT
DTSTART;TZID=UTC:20260402T080000
DTEND;TZID=UTC:20260402T150000
DTSTAMP:20260423T154236
CREATED:20260128T105702Z
LAST-MODIFIED:20260128T105702Z
UID:10315-1775116800-1775142000@tiraholm.se
SUMMARY:Kungsbacka
DESCRIPTION:Torget
URL:https://tiraholm.se/event/kungsbacka-14/
END:VEVENT
BEGIN:VEVENT
DTSTART;TZID=UTC:20260401T193000
DTEND;TZID=UTC:20260401T200000
DTSTAMP:20260423T154236
CREATED:20260128T112517Z
LAST-MODIFIED:20260128T112517Z
UID:10335-1775071800-1775073600@tiraholm.se
SUMMARY:Reko-ring Värnamo
DESCRIPTION:Utlämning av förbeställda produkter genom Facebookgruppen REKO-ring Värnamo.\nÄven direktförsäljning från fiskbilen.
URL:https://tiraholm.se/event/reko-ring-varnamo/
END:VEVENT
BEGIN:VEVENT
DTSTART;TZID=UTC:20260401T173000
DTEND;TZID=UTC:20260401T183000
DTSTAMP:20260423T154236
CREATED:20260128T112422Z
LAST-MODIFIED:20260128T112422Z
UID:10333-1775064600-1775068200@tiraholm.se
SUMMARY:Reko-ring Gislaved
DESCRIPTION:Utlämning av förbeställda produkter genom Facebookgruppen REKO-ring Värnamo.\nÄven direktförsäljning från fiskbilen.
URL:https://tiraholm.se/event/reko-ring-gislaved-2/
END:VEVENT
BEGIN:VEVENT
DTSTART;TZID=UTC:20260401T120000
DTEND;TZID=UTC:20260401T200000
DTSTAMP:20260423T154236
CREATED:20260128T105309Z
LAST-MODIFIED:20260128T110912Z
UID:10311-1775044800-1775073600@tiraholm.se
SUMMARY:Harplinge
DESCRIPTION:marknad lantmänen
URL:https://tiraholm.se/event/harplinge-3/
END:VEVENT
BEGIN:VEVENT
DTSTART;TZID=UTC:20260401T120000
DTEND;TZID=UTC:20260401T163000
DTSTAMP:20260423T154236
CREATED:20260128T105203Z
LAST-MODIFIED:20260128T105203Z
UID:10309-1775044800-1775061000@tiraholm.se
SUMMARY:Anderstorp
DESCRIPTION:vid ica
URL:https://tiraholm.se/event/anderstorp-13/
END:VEVENT
BEGIN:VEVENT
DTSTART;TZID=UTC:20260329T110000
DTEND;TZID=UTC:20260329T170000
DTSTAMP:20260423T154236
CREATED:20260312T074311Z
LAST-MODIFIED:20260312T074311Z
UID:10973-1774782000-1774803600@tiraholm.se
SUMMARY:Oskarström skolberget
DESCRIPTION:
URL:https://tiraholm.se/event/oskarstrom-skolberget/
END:VEVENT
BEGIN:VEVENT
DTSTART;TZID=UTC:20260328T110000
DTEND;TZID=UTC:20260328T170000
DTSTAMP:20260423T154236
CREATED:20260128T112226Z
LAST-MODIFIED:20260128T112226Z
UID:10331-1774695600-1774717200@tiraholm.se
SUMMARY:Påskmarknad Tiraholm
DESCRIPTION:Mat- och konsthantverk. \nPassa även på att handla fiskdelikatesserna till påskbordet. \nRestaurang och glasscafé öppna!
URL:https://tiraholm.se/event/paskmarknad-tiraholm-2/
END:VEVENT
BEGIN:VEVENT
DTSTART;TZID=UTC:20260328T100000
DTEND;TZID=UTC:20260328T140000
DTSTAMP:20260423T154236
CREATED:20260128T104421Z
LAST-MODIFIED:20260128T104421Z
UID:10303-1774692000-1774706400@tiraholm.se
SUMMARY:Laholm
DESCRIPTION:
URL:https://tiraholm.se/event/laholm-8/
END:VEVENT
BEGIN:VEVENT
DTSTART;TZID=UTC:20260328T090000
DTEND;TZID=UTC:20260328T160000
DTSTAMP:20260423T154236
CREATED:20260128T104502Z
LAST-MODIFIED:20260128T111321Z
UID:10305-1774688400-1774713600@tiraholm.se
SUMMARY:Värnamo
DESCRIPTION:Flanaden
URL:https://tiraholm.se/event/varnamo-8/
END:VEVENT
BEGIN:VEVENT
DTSTART;TZID=UTC:20260327T130000
DTEND;TZID=UTC:20260327T170000
DTSTAMP:20260423T154236
CREATED:20260128T104122Z
LAST-MODIFIED:20260128T111039Z
UID:10299-1774616400-1774630800@tiraholm.se
SUMMARY:Burseryd
DESCRIPTION:Lantmän
URL:https://tiraholm.se/event/burseryd-11/
END:VEVENT
BEGIN:VEVENT
DTSTART;TZID=UTC:20260327T090000
DTEND;TZID=UTC:20260327T173000
DTSTAMP:20260423T154236
CREATED:20260128T104239Z
LAST-MODIFIED:20260128T104239Z
UID:10301-1774602000-1774632600@tiraholm.se
SUMMARY:Ljungby
DESCRIPTION:
URL:https://tiraholm.se/event/ljungby-6/
END:VEVENT
BEGIN:VEVENT
DTSTART;TZID=UTC:20260326T120000
DTEND;TZID=UTC:20260326T173000
DTSTAMP:20260423T154236
CREATED:20260227T083038Z
LAST-MODIFIED:20260227T083038Z
UID:10963-1774526400-1774546200@tiraholm.se
SUMMARY:Gnosjö
DESCRIPTION:vid Ica
URL:https://tiraholm.se/event/gnosjo-17/
END:VEVENT
BEGIN:VEVENT
DTSTART;TZID=UTC:20260325T173000
DTEND;TZID=UTC:20260325T190000
DTSTAMP:20260423T154236
CREATED:20260128T103848Z
LAST-MODIFIED:20260128T103848Z
UID:10295-1774459800-1774465200@tiraholm.se
SUMMARY:Växjö reko-markand
DESCRIPTION:Utlämning av förbeställda produkter genom Facebookgruppen REKO-ring Växjö\nÄven direktförsäljning…
URL:https://tiraholm.se/event/vaxjo-reko-markand/
END:VEVENT
BEGIN:VEVENT
DTSTART;TZID=UTC:20260321T100000
DTEND;TZID=UTC:20260321T160000
DTSTAMP:20260423T154236
CREATED:20260128T103537Z
LAST-MODIFIED:20260128T111159Z
UID:10289-1774087200-1774108800@tiraholm.se
SUMMARY:Påskmarknad Skottorp
DESCRIPTION:skottorps slott
URL:https://tiraholm.se/event/paskmarknad-skottorp/
END:VEVENT
BEGIN:VEVENT
DTSTART;TZID=UTC:20260321T100000
DTEND;TZID=UTC:20260321T140000
DTSTAMP:20260423T154236
CREATED:20260128T103128Z
LAST-MODIFIED:20260128T103128Z
UID:10291-1774087200-1774101600@tiraholm.se
SUMMARY:Halmstad
DESCRIPTION:Stora torg mot brogatan
URL:https://tiraholm.se/event/halmstad-43/
END:VEVENT
BEGIN:VEVENT
DTSTART;TZID=UTC:20260320T123000
DTEND;TZID=UTC:20260320T160000
DTSTAMP:20260423T154236
CREATED:20260128T103358Z
LAST-MODIFIED:20260316T145001Z
UID:10293-1774009800-1774022400@tiraholm.se
SUMMARY:Älvsered
DESCRIPTION:Älvsered lantmän
URL:https://tiraholm.se/event/alvsered-11/
END:VEVENT
BEGIN:VEVENT
DTSTART;TZID=UTC:20260320T120000
DTEND;TZID=UTC:20260320T170000
DTSTAMP:20260423T154236
CREATED:20260128T102647Z
LAST-MODIFIED:20260128T102647Z
UID:10287-1774008000-1774026000@tiraholm.se
SUMMARY:Anderstorp
DESCRIPTION:vid ICA
URL:https://tiraholm.se/event/anderstorp-12/
END:VEVENT
BEGIN:VEVENT
DTSTART;TZID=UTC:20260319T120000
DTEND;TZID=UTC:20260319T170000
DTSTAMP:20260423T154236
CREATED:20260128T102523Z
LAST-MODIFIED:20260128T102523Z
UID:10285-1773921600-1773939600@tiraholm.se
SUMMARY:Forsheda
DESCRIPTION:vid ICA
URL:https://tiraholm.se/event/forsheda-13/
END:VEVENT
BEGIN:VEVENT
DTSTART;TZID=UTC:20260314T090000
DTEND;TZID=UTC:20260314T140000
DTSTAMP:20260423T154236
CREATED:20260128T102224Z
LAST-MODIFIED:20260128T111554Z
UID:10281-1773478800-1773496800@tiraholm.se
SUMMARY:Falkenberg
DESCRIPTION:Rörbeckstorget
URL:https://tiraholm.se/event/falkenberg-16/
END:VEVENT
BEGIN:VEVENT
DTSTART;TZID=UTC:20260312T120000
DTEND;TZID=UTC:20260312T170000
DTSTAMP:20260423T154236
CREATED:20260128T102057Z
LAST-MODIFIED:20260128T111924Z
UID:10279-1773316800-1773334800@tiraholm.se
SUMMARY:Gislaved
DESCRIPTION:systembolaget
URL:https://tiraholm.se/event/gislaved-15/
END:VEVENT
BEGIN:VEVENT
DTSTART;TZID=UTC:20260311T080000
DTEND;TZID=UTC:20260311T120000
DTSTAMP:20260423T154236
CREATED:20260128T101853Z
LAST-MODIFIED:20260128T101853Z
UID:10277-1773216000-1773230400@tiraholm.se
SUMMARY:Unnaryd
DESCRIPTION:Unnaryds torg
URL:https://tiraholm.se/event/unnaryd-12/
END:VEVENT
BEGIN:VEVENT
DTSTART;TZID=UTC:20260307T100000
DTEND;TZID=UTC:20260307T140000
DTSTAMP:20260423T154236
CREATED:20260128T101344Z
LAST-MODIFIED:20260128T101344Z
UID:10273-1772877600-1772892000@tiraholm.se
SUMMARY:Halmstad
DESCRIPTION:Stora torg mot brogatan
URL:https://tiraholm.se/event/halmstad-42/
END:VEVENT
BEGIN:VEVENT
DTSTART;TZID=UTC:20260306T130000
DTEND;TZID=UTC:20260306T170000
DTSTAMP:20260423T154236
CREATED:20260128T101116Z
LAST-MODIFIED:20260128T101639Z
UID:10271-1772802000-1772816400@tiraholm.se
SUMMARY:Hyltebruk
DESCRIPTION:På Icas parkering
URL:https://tiraholm.se/event/hyltebruk-12/
END:VEVENT
BEGIN:VEVENT
DTSTART;TZID=UTC:20260305T080000
DTEND;TZID=UTC:20260305T150000
DTSTAMP:20260423T154236
CREATED:20260128T101004Z
LAST-MODIFIED:20260128T101418Z
UID:10269-1772697600-1772722800@tiraholm.se
SUMMARY:Kungsbacka
DESCRIPTION:Torget
URL:https://tiraholm.se/event/kungsbacka-13/
END:VEVENT
BEGIN:VEVENT
DTSTART;TZID=UTC:20260228T100000
DTEND;TZID=UTC:20260228T150000
DTSTAMP:20260423T154236
CREATED:20260128T100513Z
LAST-MODIFIED:20260128T100513Z
UID:10266-1772272800-1772290800@tiraholm.se
SUMMARY:Ryssby
DESCRIPTION:Ryssbygymnasiet
URL:https://tiraholm.se/event/ryssby-2/
END:VEVENT
BEGIN:VEVENT
DTSTART;TZID=UTC:20260226T120000
DTEND;TZID=UTC:20260226T170000
DTSTAMP:20260423T154236
CREATED:20240419T101723Z
LAST-MODIFIED:20260127T094406Z
UID:8082-1772107200-1772125200@tiraholm.se
SUMMARY:Gnosjö
DESCRIPTION:vid Ica
URL:https://tiraholm.se/event/gnosjo-11/
END:VEVENT
BEGIN:VEVENT
DTSTART;TZID=UTC:20260221T100000
DTEND;TZID=UTC:20260221T140000
DTSTAMP:20260423T154236
CREATED:20260127T095028Z
LAST-MODIFIED:20260127T095028Z
UID:10259-1771668000-1771682400@tiraholm.se
SUMMARY:Halmstad
DESCRIPTION:Stora Torg mot Brogatan
URL:https://tiraholm.se/event/halmstad-41/
END:VEVENT
BEGIN:VEVENT
DTSTART;TZID=UTC:20260220T120000
DTEND;TZID=UTC:20260220T170000
DTSTAMP:20260423T154236
CREATED:20241017T072231Z
LAST-MODIFIED:20260127T084649Z
UID:8887-1771588800-1771606800@tiraholm.se
SUMMARY:Anderstorp
DESCRIPTION:vid Ica
URL:https://tiraholm.se/event/anderstorp-9/
END:VEVENT
END:VCALENDAR