BEGIN:VCALENDAR
VERSION:2.0
PRODID:-//Tiraholms fisk - ECPv6.15.20//NONSGML v1.0//EN
CALSCALE:GREGORIAN
METHOD:PUBLISH
X-ORIGINAL-URL:https://tiraholm.se
X-WR-CALDESC:Händelser för Tiraholms fisk
REFRESH-INTERVAL;VALUE=DURATION:PT1H
X-Robots-Tag:noindex
X-PUBLISHED-TTL:PT1H
BEGIN:VTIMEZONE
TZID:UTC
BEGIN:STANDARD
TZOFFSETFROM:+0000
TZOFFSETTO:+0000
TZNAME:UTC
DTSTART:20240101T000000
END:STANDARD
END:VTIMEZONE
BEGIN:VEVENT
DTSTART;TZID=UTC:20250508T120000
DTEND;TZID=UTC:20250508T170000
DTSTAMP:20260424T234252
CREATED:20250414T132000Z
LAST-MODIFIED:20250414T132137Z
UID:9608-1746705600-1746723600@tiraholm.se
SUMMARY:Habo
DESCRIPTION:Vid ICA
URL:https://tiraholm.se/event/habo-8/
END:VEVENT
BEGIN:VEVENT
DTSTART;TZID=UTC:20250508T090000
DTEND;TZID=UTC:20250508T150000
DTSTAMP:20260424T234252
CREATED:20240124T103332Z
LAST-MODIFIED:20250414T130634Z
UID:6882-1746694800-1746716400@tiraholm.se
SUMMARY:Kungsbacka
DESCRIPTION:
URL:https://tiraholm.se/event/fiskbilen-kungsbacka/
LOCATION:Kungsbacka\, Kungsbacka Torg
END:VEVENT
BEGIN:VEVENT
DTSTART;TZID=UTC:20250503T100000
DTEND;TZID=UTC:20250503T150000
DTSTAMP:20260424T234252
CREATED:20250414T131915Z
LAST-MODIFIED:20250414T131915Z
UID:9606-1746266400-1746284400@tiraholm.se
SUMMARY:Halmstad
DESCRIPTION:Stora Torg
URL:https://tiraholm.se/event/halmstad-29/
END:VEVENT
BEGIN:VEVENT
DTSTART;TZID=UTC:20250503T100000
DTEND;TZID=UTC:20250503T150000
DTSTAMP:20260424T234252
CREATED:20250418T101502Z
LAST-MODIFIED:20250414T131846Z
UID:7647-1746266400-1746284400@tiraholm.se
SUMMARY:Halmstad
DESCRIPTION:
URL:https://tiraholm.se/event/halmstad-4/
END:VEVENT
BEGIN:VEVENT
DTSTART;TZID=UTC:20250502T130000
DTEND;TZID=UTC:20250502T170000
DTSTAMP:20260424T234252
CREATED:20240419T102007Z
LAST-MODIFIED:20250414T131423Z
UID:8092-1746190800-1746205200@tiraholm.se
SUMMARY:Hyltebruk
DESCRIPTION:Vid Gamla Hallen
URL:https://tiraholm.se/event/hyltebruk-9/
END:VEVENT
BEGIN:VEVENT
DTSTART;TZID=UTC:20250427T100000
DTEND;TZID=UTC:20250427T140000
DTSTAMP:20260424T234252
CREATED:20250324T083600Z
LAST-MODIFIED:20250324T083600Z
UID:9320-1745748000-1745762400@tiraholm.se
SUMMARY:Segerstad
DESCRIPTION:Kosläpp
URL:https://tiraholm.se/event/segerstad-2/
END:VEVENT
BEGIN:VEVENT
DTSTART;TZID=UTC:20250426T100000
DTEND;TZID=UTC:20250426T150000
DTSTAMP:20260424T234252
CREATED:20250324T083711Z
LAST-MODIFIED:20250324T083711Z
UID:9322-1745661600-1745679600@tiraholm.se
SUMMARY:Halmstad
DESCRIPTION:Stora Torg
URL:https://tiraholm.se/event/halmstad-28/
END:VEVENT
BEGIN:VEVENT
DTSTART;TZID=UTC:20250425T120000
DTEND;TZID=UTC:20250425T170000
DTSTAMP:20260424T234252
CREATED:20240125T080754Z
LAST-MODIFIED:20250324T082403Z
UID:7037-1745582400-1745600400@tiraholm.se
SUMMARY:Burseryd
DESCRIPTION:
URL:https://tiraholm.se/event/burseryd-2/
END:VEVENT
BEGIN:VEVENT
DTSTART;TZID=UTC:20250424T120000
DTEND;TZID=UTC:20250424T180000
DTSTAMP:20260424T234252
CREATED:20240409T105209Z
LAST-MODIFIED:20250324T082438Z
UID:7637-1745496000-1745517600@tiraholm.se
SUMMARY:Gnosjö
DESCRIPTION:
URL:https://tiraholm.se/event/gnosjo-2/
END:VEVENT
BEGIN:VEVENT
DTSTART;TZID=UTC:20250419T090000
DTEND;TZID=UTC:20250419T150000
DTSTAMP:20260424T234252
CREATED:20250225T132426Z
LAST-MODIFIED:20250225T132433Z
UID:9224-1745053200-1745074800@tiraholm.se
SUMMARY:Halmstad
DESCRIPTION:Stora Torg
URL:https://tiraholm.se/event/halmstad-27/
END:VEVENT
BEGIN:VEVENT
DTSTART;TZID=UTC:20250419T080000
DTEND;TZID=UTC:20250419T120000
DTSTAMP:20260424T234252
CREATED:20240125T075558Z
LAST-MODIFIED:20250311T134347Z
UID:7011-1745049600-1745064000@tiraholm.se
SUMMARY:Ljungby
DESCRIPTION:Salutorget
URL:https://tiraholm.se/event/ljungby/
END:VEVENT
BEGIN:VEVENT
DTSTART;TZID=UTC:20250418T110000
DTEND;TZID=UTC:20250418T150000
DTSTAMP:20260424T234252
CREATED:20250225T132355Z
LAST-MODIFIED:20250225T132355Z
UID:9222-1744974000-1744988400@tiraholm.se
SUMMARY:Halmstad
DESCRIPTION:Stora Torg Påskmarknad
URL:https://tiraholm.se/event/halmstad-26/
END:VEVENT
BEGIN:VEVENT
DTSTART;TZID=UTC:20250418T100000
DTEND;TZID=UTC:20250418T160000
DTSTAMP:20260424T234252
CREATED:20250331T062423Z
LAST-MODIFIED:20250331T062423Z
UID:9336-1744970400-1744992000@tiraholm.se
SUMMARY:Veddige- gården vid bron
DESCRIPTION:Påskmarknad på Gården vid bron.
URL:https://tiraholm.se/event/veddige-garden-vid-bron/
END:VEVENT
BEGIN:VEVENT
DTSTART;TZID=UTC:20250417T130000
DTEND;TZID=UTC:20250417T170000
DTSTAMP:20260424T234252
CREATED:20240409T133640Z
LAST-MODIFIED:20250225T133846Z
UID:7695-1744894800-1744909200@tiraholm.se
SUMMARY:Hyltebruk
DESCRIPTION:Vid Gamla Hallen
URL:https://tiraholm.se/event/hylte-8/
END:VEVENT
BEGIN:VEVENT
DTSTART;TZID=UTC:20250417T120000
DTEND;TZID=UTC:20250417T170000
DTSTAMP:20260424T234252
CREATED:20240125T080409Z
LAST-MODIFIED:20250225T133753Z
UID:7029-1744891200-1744909200@tiraholm.se
SUMMARY:Anderstorp
DESCRIPTION:
URL:https://tiraholm.se/event/anderstorp-2/
LOCATION:Anderstorp\, Storgatan 18\, Anderstorp\, 33433
END:VEVENT
BEGIN:VEVENT
DTSTART;TZID=UTC:20250416T193000
DTEND;TZID=UTC:20250416T203000
DTSTAMP:20260424T234252
CREATED:20241111T173024Z
LAST-MODIFIED:20250311T135049Z
UID:8934-1744831800-1744835400@tiraholm.se
SUMMARY:Värnamo
DESCRIPTION:Reko ring och direktförsäljning\nvid Vandalorum \n 
URL:https://tiraholm.se/event/rekoring-varnamo/
END:VEVENT
BEGIN:VEVENT
DTSTART;TZID=UTC:20250416T180000
DTEND;TZID=UTC:20250416T183000
DTSTAMP:20260424T234252
CREATED:20250311T134833Z
LAST-MODIFIED:20250311T134833Z
UID:6891-1744826400-1744828200@tiraholm.se
SUMMARY:Gislaved
DESCRIPTION:Reko ring och direktförsäljning
URL:https://tiraholm.se/event/gislaved-12/
END:VEVENT
BEGIN:VEVENT
DTSTART;TZID=UTC:20250416T120000
DTEND;TZID=UTC:20250416T200000
DTSTAMP:20260424T234252
CREATED:20250311T131424Z
LAST-MODIFIED:20250311T133330Z
UID:9285-1744804800-1744833600@tiraholm.se
SUMMARY:Harplinge
DESCRIPTION:Lantmännen
URL:https://tiraholm.se/event/harplinge-2/
LOCATION:Harplinge\, Lantmännen\, Sweden
END:VEVENT
BEGIN:VEVENT
DTSTART;TZID=UTC:20250416T090000
DTEND;TZID=UTC:20250416T160000
DTSTAMP:20260424T234252
CREATED:20240125T075926Z
LAST-MODIFIED:20250311T133944Z
UID:7021-1744794000-1744819200@tiraholm.se
SUMMARY:Falkenberg
DESCRIPTION:
URL:https://tiraholm.se/event/falkenberg-2/
LOCATION:Falkenberg\, Nygatan 27\, falkenberg\, 31145
END:VEVENT
BEGIN:VEVENT
DTSTART;TZID=UTC:20250414T090000
DTEND;TZID=UTC:20250414T150000
DTSTAMP:20260424T234252
CREATED:20250414T134601Z
LAST-MODIFIED:20250414T134601Z
UID:9647-1744621200-1744642800@tiraholm.se
SUMMARY:Våxtorp
DESCRIPTION:Marknad
URL:https://tiraholm.se/event/vaxtorp/
END:VEVENT
BEGIN:VEVENT
DTSTART;TZID=UTC:20250412T100000
DTEND;TZID=UTC:20250412T140000
DTSTAMP:20260424T234252
CREATED:20240125T073805Z
LAST-MODIFIED:20250225T133557Z
UID:6988-1744452000-1744466400@tiraholm.se
SUMMARY:Laholm
DESCRIPTION:Vårmarknad
URL:https://tiraholm.se/event/laholm/
END:VEVENT
BEGIN:VEVENT
DTSTART;TZID=UTC:20250412T090000
DTEND;TZID=UTC:20250412T130000
DTSTAMP:20260424T234252
CREATED:20240125T074633Z
LAST-MODIFIED:20250225T133703Z
UID:6994-1744448400-1744462800@tiraholm.se
SUMMARY:Lidhult
DESCRIPTION:Vårmarknad vid Lidhults Bygg och lantmän
URL:https://tiraholm.se/event/lidhult/
LOCATION:Lidhults Bygg & Lantmän\, Unnarydsvägen 21\, Lidhult\, 341 71
END:VEVENT
BEGIN:VEVENT
DTSTART;TZID=UTC:20250411T123000
DTEND;TZID=UTC:20250411T170000
DTSTAMP:20260424T234252
CREATED:20240131T102311Z
LAST-MODIFIED:20250225T133448Z
UID:7110-1744374600-1744390800@tiraholm.se
SUMMARY:Älvsered
DESCRIPTION:
URL:https://tiraholm.se/event/alvsered-2/
END:VEVENT
BEGIN:VEVENT
DTSTART;TZID=UTC:20250411T120000
DTEND;TZID=UTC:20250411T170000
DTSTAMP:20260424T234252
CREATED:20240125T075847Z
LAST-MODIFIED:20250225T133412Z
UID:7019-1744372800-1744390800@tiraholm.se
SUMMARY:Gislaved
DESCRIPTION:Vid Systembolaget
URL:https://tiraholm.se/event/gislaved-2/
LOCATION:Gislaved\, Köpmangatan 4\, Gislaved\, 33230\, Sverige
END:VEVENT
BEGIN:VEVENT
DTSTART;TZID=UTC:20250410T120000
DTEND;TZID=UTC:20250410T170000
DTSTAMP:20260424T234252
CREATED:20240125T080328Z
LAST-MODIFIED:20250311T134628Z
UID:7027-1744286400-1744304400@tiraholm.se
SUMMARY:Forsheda
DESCRIPTION:vid ICA
URL:https://tiraholm.se/event/forsheda-2/
LOCATION:Forsheda\, Brogatan 4\, Forsheda\, 33171
END:VEVENT
BEGIN:VEVENT
DTSTART;TZID=UTC:20250409T170000
DTEND;TZID=UTC:20250409T183000
DTSTAMP:20260424T234252
CREATED:20250225T133009Z
LAST-MODIFIED:20250225T133009Z
UID:9232-1744218000-1744223400@tiraholm.se
SUMMARY:Växjö- rekomarknad
DESCRIPTION:Reko-ring och matmarknad. Direktförsäljning och utlämning av förbeställda varor.
URL:https://tiraholm.se/event/vaxjo-rekomarknad/
END:VEVENT
BEGIN:VEVENT
DTSTART;TZID=UTC:20250409T080000
DTEND;TZID=UTC:20250409T130000
DTSTAMP:20260424T234252
CREATED:20240125T075801Z
LAST-MODIFIED:20250225T133209Z
UID:7017-1744185600-1744203600@tiraholm.se
SUMMARY:Unnaryd
DESCRIPTION:
URL:https://tiraholm.se/event/unnaryd-2/
END:VEVENT
BEGIN:VEVENT
DTSTART;TZID=UTC:20250405T110000
DTEND;TZID=UTC:20250405T170000
DTSTAMP:20260424T234252
CREATED:20250225T132748Z
LAST-MODIFIED:20250225T132748Z
UID:9228-1743850800-1743872400@tiraholm.se
SUMMARY:Påskmarknad Tiraholm
DESCRIPTION:över 30 utställare på gården! Mat- och konsthantverk. \nPassa även på att handla fiskdelikatesserna till påskbordet. \nRestaurang och glasscafé öppna!
URL:https://tiraholm.se/event/paskmarknad-tiraholm/
END:VEVENT
BEGIN:VEVENT
DTSTART;TZID=UTC:20250405T100000
DTEND;TZID=UTC:20250405T150000
DTSTAMP:20260424T234252
CREATED:20240410T121256Z
LAST-MODIFIED:20250225T132055Z
UID:7781-1743847200-1743865200@tiraholm.se
SUMMARY:Halmstad
DESCRIPTION:Stora Torg
URL:https://tiraholm.se/event/halmstad-11/
END:VEVENT
BEGIN:VEVENT
DTSTART;TZID=UTC:20250405T090000
DTEND;TZID=UTC:20250405T140000
DTSTAMP:20260424T234252
CREATED:20250311T134454Z
LAST-MODIFIED:20250311T134454Z
UID:9307-1743843600-1743861600@tiraholm.se
SUMMARY:Tranemo
DESCRIPTION:
URL:https://tiraholm.se/event/tranemo/
END:VEVENT
END:VCALENDAR