BEGIN:VCALENDAR
VERSION:2.0
PRODID:-//Tiraholms fisk - ECPv6.15.20//NONSGML v1.0//EN
CALSCALE:GREGORIAN
METHOD:PUBLISH
X-WR-CALNAME:Tiraholms fisk
X-ORIGINAL-URL:https://tiraholm.se
X-WR-CALDESC:Händelser för Tiraholms fisk
REFRESH-INTERVAL;VALUE=DURATION:PT1H
X-Robots-Tag:noindex
X-PUBLISHED-TTL:PT1H
BEGIN:VTIMEZONE
TZID:UTC
BEGIN:STANDARD
TZOFFSETFROM:+0000
TZOFFSETTO:+0000
TZNAME:UTC
DTSTART:20240101T000000
END:STANDARD
END:VTIMEZONE
BEGIN:VEVENT
DTSTART;TZID=UTC:20250717T120000
DTEND;TZID=UTC:20250717T170000
DTSTAMP:20260424T170750
CREATED:20250630T103727Z
LAST-MODIFIED:20250630T103727Z
UID:9841-1752753600-1752771600@tiraholm.se
SUMMARY:Skummeslöv
DESCRIPTION:vid ICA
URL:https://tiraholm.se/event/skummeslov-4/
END:VEVENT
BEGIN:VEVENT
DTSTART;TZID=UTC:20250715T130000
DTEND;TZID=UTC:20250715T190000
DTSTAMP:20260424T170750
CREATED:20250708T144437Z
LAST-MODIFIED:20250708T144437Z
UID:9850-1752584400-1752606000@tiraholm.se
SUMMARY:Slöinge
DESCRIPTION:vid SIA glass
URL:https://tiraholm.se/event/sloinge/
END:VEVENT
BEGIN:VEVENT
DTSTART;TZID=UTC:20250712T100000
DTEND;TZID=UTC:20250712T150000
DTSTAMP:20260424T170750
CREATED:20250618T105431Z
LAST-MODIFIED:20250618T105431Z
UID:9791-1752314400-1752332400@tiraholm.se
SUMMARY:Halmstad
DESCRIPTION:Stora torg
URL:https://tiraholm.se/event/halmstad-37/
END:VEVENT
BEGIN:VEVENT
DTSTART;TZID=UTC:20250712T090000
DTEND;TZID=UTC:20250712T140000
DTSTAMP:20260424T170750
CREATED:20240410T120921Z
LAST-MODIFIED:20250618T105518Z
UID:7771-1752310800-1752328800@tiraholm.se
SUMMARY:Falkenberg
DESCRIPTION:Rörbecksplatsen
URL:https://tiraholm.se/event/falkenberg-6/
END:VEVENT
BEGIN:VEVENT
DTSTART;TZID=UTC:20250711T123000
DTEND;TZID=UTC:20250711T170000
DTSTAMP:20260424T170750
CREATED:20240410T120847Z
LAST-MODIFIED:20250618T105145Z
UID:7769-1752237000-1752253200@tiraholm.se
SUMMARY:Älvsered
DESCRIPTION:
URL:https://tiraholm.se/event/alvsered-5/
END:VEVENT
BEGIN:VEVENT
DTSTART;TZID=UTC:20250711T120000
DTEND;TZID=UTC:20250711T170000
DTSTAMP:20260424T170750
CREATED:20240410T120811Z
LAST-MODIFIED:20250630T103452Z
UID:7767-1752235200-1752253200@tiraholm.se
SUMMARY:Gislaved
DESCRIPTION:Vid systemet
URL:https://tiraholm.se/event/gislaved-6/
END:VEVENT
BEGIN:VEVENT
DTSTART;TZID=UTC:20250710T120000
DTEND;TZID=UTC:20250710T170000
DTSTAMP:20260424T170750
CREATED:20250630T103707Z
LAST-MODIFIED:20250630T103707Z
UID:9839-1752148800-1752166800@tiraholm.se
SUMMARY:Skummeslöv
DESCRIPTION:vid ICA
URL:https://tiraholm.se/event/skummeslov-3/
END:VEVENT
BEGIN:VEVENT
DTSTART;TZID=UTC:20250709T080000
DTEND;TZID=UTC:20250709T130000
DTSTAMP:20260424T170750
CREATED:20240410T120718Z
LAST-MODIFIED:20250424T140429Z
UID:7765-1752048000-1752066000@tiraholm.se
SUMMARY:Unnaryd
DESCRIPTION:Marknad
URL:https://tiraholm.se/event/unnaryd-5/
END:VEVENT
BEGIN:VEVENT
DTSTART;TZID=UTC:20250705T100000
DTEND;TZID=UTC:20250705T150000
DTSTAMP:20260424T170750
CREATED:20250618T075839Z
LAST-MODIFIED:20250618T075839Z
UID:9778-1751709600-1751727600@tiraholm.se
SUMMARY:Halmstad
DESCRIPTION:Stora Torg
URL:https://tiraholm.se/event/halmstad-35/
END:VEVENT
BEGIN:VEVENT
DTSTART;TZID=UTC:20250704T130000
DTEND;TZID=UTC:20250704T170000
DTSTAMP:20260424T170750
CREATED:20240410T121223Z
LAST-MODIFIED:20250618T080353Z
UID:7779-1751634000-1751648400@tiraholm.se
SUMMARY:Hyltebruk
DESCRIPTION:
URL:https://tiraholm.se/event/hylte-12/
END:VEVENT
BEGIN:VEVENT
DTSTART;TZID=UTC:20250704T120000
DTEND;TZID=UTC:20250704T170000
DTSTAMP:20260424T170750
CREATED:20250630T103633Z
LAST-MODIFIED:20250630T103633Z
UID:9837-1751630400-1751648400@tiraholm.se
SUMMARY:Skummeslöv
DESCRIPTION:vid Ica
URL:https://tiraholm.se/event/skummeslov-2/
END:VEVENT
BEGIN:VEVENT
DTSTART;TZID=UTC:20250703T080000
DTEND;TZID=UTC:20250703T150000
DTSTAMP:20260424T170750
CREATED:20240410T120523Z
LAST-MODIFIED:20250618T080128Z
UID:7757-1751529600-1751554800@tiraholm.se
SUMMARY:Kungsbacka
DESCRIPTION:
URL:https://tiraholm.se/event/kungsbacka-5/
END:VEVENT
BEGIN:VEVENT
DTSTART;TZID=UTC:20250628T100000
DTEND;TZID=UTC:20250628T160000
DTSTAMP:20260424T170750
CREATED:20250618T075724Z
LAST-MODIFIED:20250618T075724Z
UID:9776-1751104800-1751126400@tiraholm.se
SUMMARY:Laholm
DESCRIPTION:Torget
URL:https://tiraholm.se/event/laholm-6/
END:VEVENT
BEGIN:VEVENT
DTSTART;TZID=UTC:20250628T100000
DTEND;TZID=UTC:20250628T150000
DTSTAMP:20260424T170750
CREATED:20250424T142511Z
LAST-MODIFIED:20250424T142511Z
UID:9693-1751104800-1751122800@tiraholm.se
SUMMARY:Halmstad
DESCRIPTION:Stora Torg
URL:https://tiraholm.se/event/halmstad-34/
END:VEVENT
BEGIN:VEVENT
DTSTART;TZID=UTC:20250626T120000
DTEND;TZID=UTC:20250626T170000
DTSTAMP:20260424T170750
CREATED:20250424T141253Z
LAST-MODIFIED:20250424T141840Z
UID:9687-1750939200-1750957200@tiraholm.se
SUMMARY:Gnosjö
DESCRIPTION:vid ICA
URL:https://tiraholm.se/event/gnosjo-14/
END:VEVENT
BEGIN:VEVENT
DTSTART;TZID=UTC:20250619T130000
DTEND;TZID=UTC:20250619T130000
DTSTAMP:20260424T170750
CREATED:20240410T084809Z
LAST-MODIFIED:20250424T141224Z
UID:7747-1750338000-1750338000@tiraholm.se
SUMMARY:Hyltebruk
DESCRIPTION:vid gamla Hallen
URL:https://tiraholm.se/event/hylte-10/
END:VEVENT
BEGIN:VEVENT
DTSTART;TZID=UTC:20250619T120000
DTEND;TZID=UTC:20250619T170000
DTSTAMP:20260424T170750
CREATED:20240410T084841Z
LAST-MODIFIED:20250424T141106Z
UID:7749-1750334400-1750352400@tiraholm.se
SUMMARY:Anderstorp
DESCRIPTION:
URL:https://tiraholm.se/event/anderstorp-3/
END:VEVENT
BEGIN:VEVENT
DTSTART;TZID=UTC:20250619T090000
DTEND;TZID=UTC:20250619T120000
DTSTAMP:20260424T170750
CREATED:20240410T084739Z
LAST-MODIFIED:20250424T141133Z
UID:7745-1750323600-1750334400@tiraholm.se
SUMMARY:Lidhult
DESCRIPTION:
URL:https://tiraholm.se/event/lidhult-2/
END:VEVENT
BEGIN:VEVENT
DTSTART;TZID=UTC:20250618T193000
DTEND;TZID=UTC:20250618T200000
DTSTAMP:20260424T170750
CREATED:20250618T104614Z
LAST-MODIFIED:20250618T104614Z
UID:9786-1750275000-1750276800@tiraholm.se
SUMMARY:Värnamo
DESCRIPTION:Reko-ring med direktförsäljning
URL:https://tiraholm.se/event/varnamo-5/
END:VEVENT
BEGIN:VEVENT
DTSTART;TZID=UTC:20250618T180000
DTEND;TZID=UTC:20250618T183000
DTSTAMP:20260424T170750
CREATED:20241111T173057Z
LAST-MODIFIED:20250618T104510Z
UID:8936-1750269600-1750271400@tiraholm.se
SUMMARY:Reko-ring Gislaved
DESCRIPTION:Utlämning av förbeställda produkter genom Facebookgruppen REKO-ring Värnamo.\nÄven direktförsäljning från fiskbilen.
URL:https://tiraholm.se/event/reko-ring-gislaved/
END:VEVENT
BEGIN:VEVENT
DTSTART;TZID=UTC:20250618T120000
DTEND;TZID=UTC:20250618T170000
DTSTAMP:20260424T170750
CREATED:20240410T084649Z
LAST-MODIFIED:20250424T140939Z
UID:7743-1750248000-1750266000@tiraholm.se
SUMMARY:Forsheda
DESCRIPTION:vid ICA
URL:https://tiraholm.se/event/forsheda-5/
END:VEVENT
BEGIN:VEVENT
DTSTART;TZID=UTC:20250614T100000
DTEND;TZID=UTC:20250614T150000
DTSTAMP:20260424T170750
CREATED:20250424T142016Z
LAST-MODIFIED:20250424T142034Z
UID:9691-1749895200-1749913200@tiraholm.se
SUMMARY:Halmstad
DESCRIPTION:Stora Torg
URL:https://tiraholm.se/event/halmstad-33/
END:VEVENT
BEGIN:VEVENT
DTSTART;TZID=UTC:20250614T100000
DTEND;TZID=UTC:20250614T140000
DTSTAMP:20260424T170750
CREATED:20250424T140858Z
LAST-MODIFIED:20250424T140858Z
UID:9681-1749895200-1749909600@tiraholm.se
SUMMARY:Gnosjö
DESCRIPTION:Järnbärardagen
URL:https://tiraholm.se/event/gnosjo-13/
END:VEVENT
BEGIN:VEVENT
DTSTART;TZID=UTC:20250613T123000
DTEND;TZID=UTC:20250613T170000
DTSTAMP:20260424T170750
CREATED:20240410T084434Z
LAST-MODIFIED:20250424T140815Z
UID:7737-1749817800-1749834000@tiraholm.se
SUMMARY:Älvsered
DESCRIPTION:Lantmännen
URL:https://tiraholm.se/event/alvsered-4/
END:VEVENT
BEGIN:VEVENT
DTSTART;TZID=UTC:20250613T120000
DTEND;TZID=UTC:20250613T170000
DTSTAMP:20260424T170750
CREATED:20240410T084348Z
LAST-MODIFIED:20250424T140623Z
UID:7735-1749816000-1749834000@tiraholm.se
SUMMARY:Burseryd
DESCRIPTION:
URL:https://tiraholm.se/event/burseryd-4/
END:VEVENT
BEGIN:VEVENT
DTSTART;TZID=UTC:20250612T120000
DTEND;TZID=UTC:20250612T170000
DTSTAMP:20260424T170750
CREATED:20250424T141014Z
LAST-MODIFIED:20250527T070216Z
UID:9684-1749729600-1749747600@tiraholm.se
SUMMARY:Gislaved
DESCRIPTION:Vid Systemet
URL:https://tiraholm.se/event/gislaved-14/
END:VEVENT
BEGIN:VEVENT
DTSTART;TZID=UTC:20250611T080000
DTEND;TZID=UTC:20250611T130000
DTSTAMP:20260424T170750
CREATED:20240410T084142Z
LAST-MODIFIED:20250424T140402Z
UID:7729-1749628800-1749646800@tiraholm.se
SUMMARY:Unnaryd
DESCRIPTION:
URL:https://tiraholm.se/event/unnaryd-4/
END:VEVENT
BEGIN:VEVENT
DTSTART;TZID=UTC:20250607T080000
DTEND;TZID=UTC:20250607T170000
DTSTAMP:20260424T170750
CREATED:20250414T134625Z
LAST-MODIFIED:20250414T134625Z
UID:9649-1749283200-1749315600@tiraholm.se
SUMMARY:Halmstad
DESCRIPTION:Stora Torg
URL:https://tiraholm.se/event/halmstad-32/
END:VEVENT
BEGIN:VEVENT
DTSTART;TZID=UTC:20250607T080000
DTEND;TZID=UTC:20250607T140000
DTSTAMP:20260424T170750
CREATED:20250424T141924Z
LAST-MODIFIED:20250424T141924Z
UID:9689-1749283200-1749304800@tiraholm.se
SUMMARY:Falkenberg
DESCRIPTION:Rörbecksplatsen
URL:https://tiraholm.se/event/falkenberg-15/
END:VEVENT
BEGIN:VEVENT
DTSTART;TZID=UTC:20250606T100000
DTEND;TZID=UTC:20250606T170000
DTSTAMP:20260424T170750
CREATED:20250414T134513Z
LAST-MODIFIED:20250414T134529Z
UID:9644-1749204000-1749229200@tiraholm.se
SUMMARY:Anderstorp
DESCRIPTION:Motorbanan
URL:https://tiraholm.se/event/anderstorp-11/
END:VEVENT
END:VCALENDAR