BEGIN:VCALENDAR
VERSION:2.0
PRODID:-//Tiraholms fisk - ECPv6.15.20//NONSGML v1.0//EN
CALSCALE:GREGORIAN
METHOD:PUBLISH
X-ORIGINAL-URL:https://tiraholm.se
X-WR-CALDESC:Händelser för Tiraholms fisk
REFRESH-INTERVAL;VALUE=DURATION:PT1H
X-Robots-Tag:noindex
X-PUBLISHED-TTL:PT1H
BEGIN:VTIMEZONE
TZID:UTC
BEGIN:STANDARD
TZOFFSETFROM:+0000
TZOFFSETTO:+0000
TZNAME:UTC
DTSTART:20240101T000000
END:STANDARD
END:VTIMEZONE
BEGIN:VEVENT
DTSTART;TZID=UTC:20250823T090000
DTEND;TZID=UTC:20250823T140000
DTSTAMP:20260424T134113
CREATED:20240410T122350Z
LAST-MODIFIED:20250708T145341Z
UID:7817-1755939600-1755957600@tiraholm.se
SUMMARY:Hestra
DESCRIPTION:Marknad
URL:https://tiraholm.se/event/hestra/
END:VEVENT
BEGIN:VEVENT
DTSTART;TZID=UTC:20250821T120000
DTEND;TZID=UTC:20250821T170000
DTSTAMP:20260424T134113
CREATED:20240410T122055Z
LAST-MODIFIED:20250729T112902Z
UID:7807-1755777600-1755795600@tiraholm.se
SUMMARY:Forsheda
DESCRIPTION:
URL:https://tiraholm.se/event/forsheda-7/
END:VEVENT
BEGIN:VEVENT
DTSTART;TZID=UTC:20250816T100000
DTEND;TZID=UTC:20250816T170000
DTSTAMP:20260424T134113
CREATED:20240410T122236Z
LAST-MODIFIED:20250708T145255Z
UID:7813-1755338400-1755363600@tiraholm.se
SUMMARY:Bredaryd
DESCRIPTION:Bredaryds Marknad
URL:https://tiraholm.se/event/bredaryd/
END:VEVENT
BEGIN:VEVENT
DTSTART;TZID=UTC:20250816T100000
DTEND;TZID=UTC:20250816T150000
DTSTAMP:20260424T134113
CREATED:20240807T110301Z
LAST-MODIFIED:20250812T071936Z
UID:8657-1755338400-1755356400@tiraholm.se
SUMMARY:Halmstad
DESCRIPTION:Stora Torg
URL:https://tiraholm.se/event/halmstad-20/
END:VEVENT
BEGIN:VEVENT
DTSTART;TZID=UTC:20250815T120000
DTEND;TZID=UTC:20250815T170000
DTSTAMP:20260424T134113
CREATED:20240410T122131Z
LAST-MODIFIED:20250708T145210Z
UID:7809-1755259200-1755277200@tiraholm.se
SUMMARY:Anderstorp
DESCRIPTION:vid ICA
URL:https://tiraholm.se/event/anderstorp-5/
END:VEVENT
BEGIN:VEVENT
DTSTART;TZID=UTC:20250814T120000
DTEND;TZID=UTC:20250814T170000
DTSTAMP:20260424T134113
CREATED:20240410T121816Z
LAST-MODIFIED:20250729T112811Z
UID:7799-1755172800-1755190800@tiraholm.se
SUMMARY:Gislaved
DESCRIPTION:vid Systemet
URL:https://tiraholm.se/event/gislaved-7/
END:VEVENT
BEGIN:VEVENT
DTSTART;TZID=UTC:20250813T080000
DTEND;TZID=UTC:20250813T130000
DTSTAMP:20260424T134113
CREATED:20240410T122001Z
LAST-MODIFIED:20250424T140457Z
UID:7805-1755072000-1755090000@tiraholm.se
SUMMARY:Unnaryd
DESCRIPTION:
URL:https://tiraholm.se/event/unnaryd-6/
END:VEVENT
BEGIN:VEVENT
DTSTART;TZID=UTC:20250809T090000
DTEND;TZID=UTC:20250809T140000
DTSTAMP:20260424T134113
CREATED:20240410T121930Z
LAST-MODIFIED:20250708T144759Z
UID:7803-1754730000-1754748000@tiraholm.se
SUMMARY:Falkenberg
DESCRIPTION:
URL:https://tiraholm.se/event/falkenberg-7/
END:VEVENT
BEGIN:VEVENT
DTSTART;TZID=UTC:20250808T130000
DTEND;TZID=UTC:20250810T170000
DTSTAMP:20260424T134113
CREATED:20240730T093831Z
LAST-MODIFIED:20250708T145058Z
UID:8640-1754658000-1754845200@tiraholm.se
SUMMARY:Sjönevads marknad
DESCRIPTION:
URL:https://tiraholm.se/event/sjonevads-marknad/
END:VEVENT
BEGIN:VEVENT
DTSTART;TZID=UTC:20250808T123000
DTEND;TZID=UTC:20250808T170000
DTSTAMP:20260424T134113
CREATED:20240410T121856Z
LAST-MODIFIED:20250618T125405Z
UID:7801-1754656200-1754672400@tiraholm.se
SUMMARY:Älvsered
DESCRIPTION:
URL:https://tiraholm.se/event/alvsered-6/
END:VEVENT
BEGIN:VEVENT
DTSTART;TZID=UTC:20250807T080000
DTEND;TZID=UTC:20250807T150000
DTSTAMP:20260424T134113
CREATED:20240410T121543Z
LAST-MODIFIED:20250618T080228Z
UID:7789-1754553600-1754578800@tiraholm.se
SUMMARY:Kungsbacka
DESCRIPTION:
URL:https://tiraholm.se/event/kungsbacka-6/
END:VEVENT
BEGIN:VEVENT
DTSTART;TZID=UTC:20250802T100000
DTEND;TZID=UTC:20250802T150000
DTSTAMP:20260424T134113
CREATED:20240419T091853Z
LAST-MODIFIED:20250618T110321Z
UID:7960-1754128800-1754146800@tiraholm.se
SUMMARY:Halmstad
DESCRIPTION:
URL:https://tiraholm.se/event/halmstad-14/
END:VEVENT
BEGIN:VEVENT
DTSTART;TZID=UTC:20250802T100000
DTEND;TZID=UTC:20250802T150000
DTSTAMP:20260424T134113
CREATED:20250618T125310Z
LAST-MODIFIED:20250618T125310Z
UID:9799-1754128800-1754146800@tiraholm.se
SUMMARY:Värnamo
DESCRIPTION:Slåttalördag
URL:https://tiraholm.se/event/varnamo-6/
END:VEVENT
BEGIN:VEVENT
DTSTART;TZID=UTC:20250801T130000
DTEND;TZID=UTC:20250801T170000
DTSTAMP:20260424T134113
CREATED:20240410T121610Z
LAST-MODIFIED:20250618T110232Z
UID:7791-1754053200-1754067600@tiraholm.se
SUMMARY:Hyltebruk
DESCRIPTION:
URL:https://tiraholm.se/event/hylte-13/
END:VEVENT
BEGIN:VEVENT
DTSTART;TZID=UTC:20250731T120000
DTEND;TZID=UTC:20250731T180000
DTSTAMP:20260424T134113
CREATED:20240410T121421Z
LAST-MODIFIED:20250618T110011Z
UID:7785-1753963200-1753984800@tiraholm.se
SUMMARY:Gnosjö
DESCRIPTION:
URL:https://tiraholm.se/event/gnosjo-6/
END:VEVENT
BEGIN:VEVENT
DTSTART;TZID=UTC:20250730T120000
DTEND;TZID=UTC:20250730T170000
DTSTAMP:20260424T134113
CREATED:20250630T103835Z
LAST-MODIFIED:20250630T103845Z
UID:9847-1753876800-1753894800@tiraholm.se
SUMMARY:Skummeslöv
DESCRIPTION:vid ICA
URL:https://tiraholm.se/event/skummeslov-7/
END:VEVENT
BEGIN:VEVENT
DTSTART;TZID=UTC:20250726T110000
DTEND;TZID=UTC:20250727T160000
DTSTAMP:20260424T134113
CREATED:20250618T105735Z
LAST-MODIFIED:20250618T110154Z
UID:9794-1753527600-1753632000@tiraholm.se
SUMMARY:Bolmendagarna
DESCRIPTION:Aktiviteter runt hela sjön! \nMarknad på Tiraholm\nBåturer\nDemonstration av fiskförädling\nÖppet hus Forskningsstation
URL:https://tiraholm.se/event/bolmendagen/
END:VEVENT
BEGIN:VEVENT
DTSTART;TZID=UTC:20250723T120000
DTEND;TZID=UTC:20250723T170000
DTSTAMP:20260424T134113
CREATED:20250630T103746Z
LAST-MODIFIED:20250714T141511Z
UID:9843-1753272000-1753290000@tiraholm.se
SUMMARY:Skummeslöv
DESCRIPTION:vid ICA
URL:https://tiraholm.se/event/skummeslov-5/
END:VEVENT
BEGIN:VEVENT
DTSTART;TZID=UTC:20250720T100000
DTEND;TZID=UTC:20250720T160000
DTSTAMP:20260424T134113
CREATED:20250618T080022Z
LAST-MODIFIED:20250618T080022Z
UID:9780-1753005600-1753027200@tiraholm.se
SUMMARY:Långås Marknad
DESCRIPTION:
URL:https://tiraholm.se/event/langas-marknad/
END:VEVENT
BEGIN:VEVENT
DTSTART;TZID=UTC:20250719T100000
DTEND;TZID=UTC:20250719T160000
DTSTAMP:20260424T134113
CREATED:20240410T121347Z
LAST-MODIFIED:20250618T105929Z
UID:7783-1752919200-1752940800@tiraholm.se
SUMMARY:Vrå
DESCRIPTION:Marknad
URL:https://tiraholm.se/event/vra/
END:VEVENT
BEGIN:VEVENT
DTSTART;TZID=UTC:20250719T100000
DTEND;TZID=UTC:20250719T150000
DTSTAMP:20260424T134113
CREATED:20250618T105345Z
LAST-MODIFIED:20250618T105356Z
UID:9789-1752919200-1752937200@tiraholm.se
SUMMARY:Halmstad
DESCRIPTION:Stora torg
URL:https://tiraholm.se/event/halmstad-36/
END:VEVENT
BEGIN:VEVENT
DTSTART;TZID=UTC:20250718T120000
DTEND;TZID=UTC:20250718T170000
DTSTAMP:20260424T134113
CREATED:20240410T121155Z
LAST-MODIFIED:20250618T105810Z
UID:7777-1752840000-1752858000@tiraholm.se
SUMMARY:Anderstorp
DESCRIPTION:
URL:https://tiraholm.se/event/anderstorp-4/
END:VEVENT
BEGIN:VEVENT
DTSTART;TZID=UTC:20250717T120000
DTEND;TZID=UTC:20250717T170000
DTSTAMP:20260424T134113
CREATED:20240410T120952Z
LAST-MODIFIED:20250618T105856Z
UID:7773-1752753600-1752771600@tiraholm.se
SUMMARY:Forsheda
DESCRIPTION:vid ICA
URL:https://tiraholm.se/event/forsheda-6/
END:VEVENT
BEGIN:VEVENT
DTSTART;TZID=UTC:20250717T120000
DTEND;TZID=UTC:20250717T170000
DTSTAMP:20260424T134113
CREATED:20250630T103727Z
LAST-MODIFIED:20250630T103727Z
UID:9841-1752753600-1752771600@tiraholm.se
SUMMARY:Skummeslöv
DESCRIPTION:vid ICA
URL:https://tiraholm.se/event/skummeslov-4/
END:VEVENT
BEGIN:VEVENT
DTSTART;TZID=UTC:20250715T130000
DTEND;TZID=UTC:20250715T190000
DTSTAMP:20260424T134113
CREATED:20250708T144437Z
LAST-MODIFIED:20250708T144437Z
UID:9850-1752584400-1752606000@tiraholm.se
SUMMARY:Slöinge
DESCRIPTION:vid SIA glass
URL:https://tiraholm.se/event/sloinge/
END:VEVENT
BEGIN:VEVENT
DTSTART;TZID=UTC:20250712T100000
DTEND;TZID=UTC:20250712T150000
DTSTAMP:20260424T134113
CREATED:20250618T105431Z
LAST-MODIFIED:20250618T105431Z
UID:9791-1752314400-1752332400@tiraholm.se
SUMMARY:Halmstad
DESCRIPTION:Stora torg
URL:https://tiraholm.se/event/halmstad-37/
END:VEVENT
BEGIN:VEVENT
DTSTART;TZID=UTC:20250712T090000
DTEND;TZID=UTC:20250712T140000
DTSTAMP:20260424T134113
CREATED:20240410T120921Z
LAST-MODIFIED:20250618T105518Z
UID:7771-1752310800-1752328800@tiraholm.se
SUMMARY:Falkenberg
DESCRIPTION:Rörbecksplatsen
URL:https://tiraholm.se/event/falkenberg-6/
END:VEVENT
BEGIN:VEVENT
DTSTART;TZID=UTC:20250711T123000
DTEND;TZID=UTC:20250711T170000
DTSTAMP:20260424T134113
CREATED:20240410T120847Z
LAST-MODIFIED:20250618T105145Z
UID:7769-1752237000-1752253200@tiraholm.se
SUMMARY:Älvsered
DESCRIPTION:
URL:https://tiraholm.se/event/alvsered-5/
END:VEVENT
BEGIN:VEVENT
DTSTART;TZID=UTC:20250711T120000
DTEND;TZID=UTC:20250711T170000
DTSTAMP:20260424T134113
CREATED:20240410T120811Z
LAST-MODIFIED:20250630T103452Z
UID:7767-1752235200-1752253200@tiraholm.se
SUMMARY:Gislaved
DESCRIPTION:Vid systemet
URL:https://tiraholm.se/event/gislaved-6/
END:VEVENT
BEGIN:VEVENT
DTSTART;TZID=UTC:20250710T120000
DTEND;TZID=UTC:20250710T170000
DTSTAMP:20260424T134113
CREATED:20250630T103707Z
LAST-MODIFIED:20250630T103707Z
UID:9839-1752148800-1752166800@tiraholm.se
SUMMARY:Skummeslöv
DESCRIPTION:vid ICA
URL:https://tiraholm.se/event/skummeslov-3/
END:VEVENT
END:VCALENDAR