BEGIN:VCALENDAR
VERSION:2.0
PRODID:-//Tiraholms fisk - ECPv6.15.20//NONSGML v1.0//EN
CALSCALE:GREGORIAN
METHOD:PUBLISH
X-ORIGINAL-URL:https://tiraholm.se
X-WR-CALDESC:Händelser för Tiraholms fisk
REFRESH-INTERVAL;VALUE=DURATION:PT1H
X-Robots-Tag:noindex
X-PUBLISHED-TTL:PT1H
BEGIN:VTIMEZONE
TZID:UTC
BEGIN:STANDARD
TZOFFSETFROM:+0000
TZOFFSETTO:+0000
TZNAME:UTC
DTSTART:20250101T000000
END:STANDARD
END:VTIMEZONE
BEGIN:VEVENT
DTSTART;TZID=UTC:20260424T130000
DTEND;TZID=UTC:20260424T170000
DTSTAMP:20260421T050923
CREATED:20260312T075738Z
LAST-MODIFIED:20260312T075738Z
UID:11014-1777035600-1777050000@tiraholm.se
SUMMARY:Burseryd
DESCRIPTION:
URL:https://tiraholm.se/event/burseryd-12/
END:VEVENT
BEGIN:VEVENT
DTSTART;TZID=UTC:20260425T100000
DTEND;TZID=UTC:20260425T140000
DTSTAMP:20260421T050923
CREATED:20260312T075918Z
LAST-MODIFIED:20260312T075918Z
UID:11018-1777111200-1777125600@tiraholm.se
SUMMARY:Värnamo
DESCRIPTION:Flanaden
URL:https://tiraholm.se/event/varnamo-7/
END:VEVENT
BEGIN:VEVENT
DTSTART;TZID=UTC:20260425T100000
DTEND;TZID=UTC:20260425T150000
DTSTAMP:20260421T050923
CREATED:20260312T080013Z
LAST-MODIFIED:20260312T080013Z
UID:11020-1777111200-1777129200@tiraholm.se
SUMMARY:Laholm Nyby
DESCRIPTION:
URL:https://tiraholm.se/event/laholm-nyby/
END:VEVENT
BEGIN:VEVENT
DTSTART;TZID=UTC:20260426T100000
DTEND;TZID=UTC:20260426T140000
DTSTAMP:20260421T050923
CREATED:20260312T080215Z
LAST-MODIFIED:20260312T080215Z
UID:11022-1777197600-1777212000@tiraholm.se
SUMMARY:Segerstad
DESCRIPTION:kosläpp
URL:https://tiraholm.se/event/segerstad-3/
END:VEVENT
BEGIN:VEVENT
DTSTART;TZID=UTC:20260430T120000
DTEND;TZID=UTC:20260430T170000
DTSTAMP:20260421T050923
CREATED:20260312T080315Z
LAST-MODIFIED:20260312T080315Z
UID:11024-1777550400-1777568400@tiraholm.se
SUMMARY:Gnosjö
DESCRIPTION:vid ica
URL:https://tiraholm.se/event/gnosjo-18/
END:VEVENT
BEGIN:VEVENT
DTSTART;TZID=UTC:20260502T090000
DTEND;TZID=UTC:20260502T160000
DTSTAMP:20260421T050923
CREATED:20260312T080635Z
LAST-MODIFIED:20260312T080635Z
UID:11029-1777712400-1777737600@tiraholm.se
SUMMARY:Skillingaryd
DESCRIPTION:
URL:https://tiraholm.se/event/skillingaryd-2/
END:VEVENT
BEGIN:VEVENT
DTSTART;TZID=UTC:20260502T100000
DTEND;TZID=UTC:20260502T140000
DTSTAMP:20260421T050923
CREATED:20260312T080527Z
LAST-MODIFIED:20260312T080527Z
UID:11027-1777716000-1777730400@tiraholm.se
SUMMARY:Halmstad
DESCRIPTION:stora torg mot brogatan
URL:https://tiraholm.se/event/halmstad-46/
END:VEVENT
BEGIN:VEVENT
DTSTART;TZID=UTC:20260507T080000
DTEND;TZID=UTC:20260507T150000
DTSTAMP:20260421T050923
CREATED:20260312T080715Z
LAST-MODIFIED:20260312T080715Z
UID:11031-1778140800-1778166000@tiraholm.se
SUMMARY:Kungsbacka
DESCRIPTION:
URL:https://tiraholm.se/event/kungsbacka-15/
END:VEVENT
BEGIN:VEVENT
DTSTART;TZID=UTC:20260507T120000
DTEND;TZID=UTC:20260507T170000
DTSTAMP:20260421T050923
CREATED:20260312T080823Z
LAST-MODIFIED:20260414T114525Z
UID:11033-1778155200-1778173200@tiraholm.se
SUMMARY:Gislaved
DESCRIPTION:
URL:https://tiraholm.se/event/gislaved-17/
END:VEVENT
BEGIN:VEVENT
DTSTART;TZID=UTC:20260508T080000
DTEND;TZID=UTC:20260508T170000
DTSTAMP:20260421T050923
CREATED:20260414T114846Z
LAST-MODIFIED:20260414T114846Z
UID:11126-1778227200-1778259600@tiraholm.se
SUMMARY:Almundsryd-Ryd
DESCRIPTION:
URL:https://tiraholm.se/event/almundsryd-ryd/
END:VEVENT
BEGIN:VEVENT
DTSTART;TZID=UTC:20260508T123000
DTEND;TZID=UTC:20260508T170000
DTSTAMP:20260421T050923
CREATED:20260414T120023Z
LAST-MODIFIED:20260414T120023Z
UID:11128-1778243400-1778259600@tiraholm.se
SUMMARY:Älvsered
DESCRIPTION:
URL:https://tiraholm.se/event/alvsered-13/
END:VEVENT
BEGIN:VEVENT
DTSTART;TZID=UTC:20260509T080000
DTEND;TZID=UTC:20260509T140000
DTSTAMP:20260421T050923
CREATED:20260312T080936Z
LAST-MODIFIED:20260312T080936Z
UID:11039-1778313600-1778335200@tiraholm.se
SUMMARY:Falkenberg
DESCRIPTION:
URL:https://tiraholm.se/event/falkenberg-18/
END:VEVENT
BEGIN:VEVENT
DTSTART;TZID=UTC:20260509T100000
DTEND;TZID=UTC:20260509T140000
DTSTAMP:20260421T050923
CREATED:20260312T080901Z
LAST-MODIFIED:20260414T115908Z
UID:11037-1778320800-1778335200@tiraholm.se
SUMMARY:Hyltebruk
DESCRIPTION:vid ica
URL:https://tiraholm.se/event/hyltebruk-14/
END:VEVENT
BEGIN:VEVENT
DTSTART;TZID=UTC:20260513T080000
DTEND;TZID=UTC:20260513T120000
DTSTAMP:20260421T050923
CREATED:20260312T081334Z
LAST-MODIFIED:20260312T081334Z
UID:11044-1778659200-1778673600@tiraholm.se
SUMMARY:Unnaryds torg
DESCRIPTION:
URL:https://tiraholm.se/event/unnaryds-torg/
END:VEVENT
BEGIN:VEVENT
DTSTART;TZID=UTC:20260515T120000
DTEND;TZID=UTC:20260515T170000
DTSTAMP:20260421T050923
CREATED:20260312T081446Z
LAST-MODIFIED:20260312T081446Z
UID:11053-1778846400-1778864400@tiraholm.se
SUMMARY:Anderstorp
DESCRIPTION:
URL:https://tiraholm.se/event/anderstorp-15/
END:VEVENT
BEGIN:VEVENT
DTSTART;TZID=UTC:20260515T120000
DTEND;TZID=UTC:20260515T180000
DTSTAMP:20260421T050923
CREATED:20260312T081817Z
LAST-MODIFIED:20260312T081817Z
UID:11057-1778846400-1778868000@tiraholm.se
SUMMARY:Wapnö hem och trädgårdsmässa
DESCRIPTION:
URL:https://tiraholm.se/event/wapno-hem-och-tradgardsmassa/
END:VEVENT
BEGIN:VEVENT
DTSTART;TZID=UTC:20260516T100000
DTEND;TZID=UTC:20260516T140000
DTSTAMP:20260421T050923
CREATED:20260312T082253Z
LAST-MODIFIED:20260312T082253Z
UID:11061-1778925600-1778940000@tiraholm.se
SUMMARY:Halmstad
DESCRIPTION:
URL:https://tiraholm.se/event/halmstad-47/
END:VEVENT
BEGIN:VEVENT
DTSTART;TZID=UTC:20260516T100000
DTEND;TZID=UTC:20260516T160000
DTSTAMP:20260421T050923
CREATED:20260312T082200Z
LAST-MODIFIED:20260312T082200Z
UID:11059-1778925600-1778947200@tiraholm.se
SUMMARY:Wapnö hem och trädgårdsmässa
DESCRIPTION:
URL:https://tiraholm.se/event/wapno-hem-och-tradgardsmassa-2/
END:VEVENT
BEGIN:VEVENT
DTSTART;TZID=UTC:20260517T100000
DTEND;TZID=UTC:20260517T160000
DTSTAMP:20260421T050923
CREATED:20260312T082344Z
LAST-MODIFIED:20260312T082344Z
UID:11065-1779012000-1779033600@tiraholm.se
SUMMARY:Wapnö hem och trädgådsmässa
DESCRIPTION:
URL:https://tiraholm.se/event/wapno-hem-och-tradgadsmassa/
END:VEVENT
BEGIN:VEVENT
DTSTART;TZID=UTC:20260517T120000
DTEND;TZID=UTC:20260517T160000
DTSTAMP:20260421T050923
CREATED:20260312T082952Z
LAST-MODIFIED:20260312T082952Z
UID:11067-1779019200-1779033600@tiraholm.se
SUMMARY:Holsljunga
DESCRIPTION:
URL:https://tiraholm.se/event/holsljunga-2/
END:VEVENT
BEGIN:VEVENT
DTSTART;TZID=UTC:20260521T120000
DTEND;TZID=UTC:20260521T170000
DTSTAMP:20260421T050923
CREATED:20260312T083112Z
LAST-MODIFIED:20260312T083112Z
UID:11069-1779364800-1779382800@tiraholm.se
SUMMARY:Forsheda
DESCRIPTION:
URL:https://tiraholm.se/event/forsheda-15/
END:VEVENT
BEGIN:VEVENT
DTSTART;TZID=UTC:20260523T090000
DTEND;TZID=UTC:20260523T140000
DTSTAMP:20260421T050923
CREATED:20260312T083202Z
LAST-MODIFIED:20260312T083202Z
UID:11073-1779526800-1779544800@tiraholm.se
SUMMARY:Vaggeryd
DESCRIPTION:
URL:https://tiraholm.se/event/vaggeryd-4/
END:VEVENT
BEGIN:VEVENT
DTSTART;TZID=UTC:20260523T090000
DTEND;TZID=UTC:20260523T150000
DTSTAMP:20260421T050923
CREATED:20260312T083248Z
LAST-MODIFIED:20260312T083248Z
UID:11075-1779526800-1779548400@tiraholm.se
SUMMARY:Vrigstad
DESCRIPTION:
URL:https://tiraholm.se/event/vrigstad-2/
END:VEVENT
BEGIN:VEVENT
DTSTART;TZID=UTC:20260528T120000
DTEND;TZID=UTC:20260528T170000
DTSTAMP:20260421T050923
CREATED:20260312T083326Z
LAST-MODIFIED:20260312T083326Z
UID:11077-1779969600-1779987600@tiraholm.se
SUMMARY:Gnosjö
DESCRIPTION:
URL:https://tiraholm.se/event/gnosjo-19/
END:VEVENT
BEGIN:VEVENT
DTSTART;TZID=UTC:20260529T090000
DTEND;TZID=UTC:20260529T180000
DTSTAMP:20260421T050923
CREATED:20260414T120323Z
LAST-MODIFIED:20260414T120323Z
UID:11132-1780045200-1780077600@tiraholm.se
SUMMARY:Gislaved
DESCRIPTION:Gisledagarna
URL:https://tiraholm.se/event/gislaved-18/
END:VEVENT
BEGIN:VEVENT
DTSTART;TZID=UTC:20260529T130000
DTEND;TZID=UTC:20260529T170000
DTSTAMP:20260421T050923
CREATED:20260312T083410Z
LAST-MODIFIED:20260312T083410Z
UID:11080-1780059600-1780074000@tiraholm.se
SUMMARY:Burseryd
DESCRIPTION:
URL:https://tiraholm.se/event/burseryd-13/
END:VEVENT
BEGIN:VEVENT
DTSTART;TZID=UTC:20260530T090000
DTEND;TZID=UTC:20260530T180000
DTSTAMP:20260421T050923
CREATED:20260414T120358Z
LAST-MODIFIED:20260414T120358Z
UID:11134-1780131600-1780164000@tiraholm.se
SUMMARY:Gislaved
DESCRIPTION:Gisledagarna
URL:https://tiraholm.se/event/gislaved-19/
END:VEVENT
BEGIN:VEVENT
DTSTART;TZID=UTC:20260530T100000
DTEND;TZID=UTC:20260530T140000
DTSTAMP:20260421T050923
CREATED:20260312T083445Z
LAST-MODIFIED:20260312T083445Z
UID:11084-1780135200-1780149600@tiraholm.se
SUMMARY:Värnamo
DESCRIPTION:
URL:https://tiraholm.se/event/varnamo-10/
END:VEVENT
END:VCALENDAR