BEGIN:VCALENDAR
VERSION:2.0
PRODID:-//Tiraholms fisk - ECPv6.15.20//NONSGML v1.0//EN
CALSCALE:GREGORIAN
METHOD:PUBLISH
X-ORIGINAL-URL:https://tiraholm.se/en/
X-WR-CALDESC:Events for Tiraholms fisk
REFRESH-INTERVAL;VALUE=DURATION:PT1H
X-Robots-Tag:noindex
X-PUBLISHED-TTL:PT1H
BEGIN:VTIMEZONE
TZID:UTC
BEGIN:STANDARD
TZOFFSETFROM:+0000
TZOFFSETTO:+0000
TZNAME:UTC
DTSTART:20220101T000000
END:STANDARD
END:VTIMEZONE
BEGIN:VEVENT
DTSTART;TZID=UTC:20260418T080000
DTEND;TZID=UTC:20260418T150000
DTSTAMP:20260421T220101
CREATED:20260312T075404Z
LAST-MODIFIED:20260312T075404Z
UID:11189-1776499200-1776524400@tiraholm.se
SUMMARY:Gölingstorp
DESCRIPTION:
URL:https://tiraholm.se/en/event/golingstorp/
END:VEVENT
BEGIN:VEVENT
DTSTART;TZID=UTC:20260418T080000
DTEND;TZID=UTC:20260418T140000
DTSTAMP:20260421T220101
CREATED:20260312T075632Z
LAST-MODIFIED:20260312T075632Z
UID:11196-1776499200-1776520800@tiraholm.se
SUMMARY:Falkenberg
DESCRIPTION:Rörbeck Square
URL:https://tiraholm.se/en/event/falkenberg-2/
END:VEVENT
BEGIN:VEVENT
DTSTART;TZID=UTC:20260417T120000
DTEND;TZID=UTC:20260417T170000
DTSTAMP:20260421T220101
CREATED:20260312T075325Z
LAST-MODIFIED:20260312T075325Z
UID:11011-1776427200-1776445200@tiraholm.se
SUMMARY:Anderstorp
DESCRIPTION:
URL:https://tiraholm.se/en/event/anderstorp/
END:VEVENT
BEGIN:VEVENT
DTSTART;TZID=UTC:20260416T120000
DTEND;TZID=UTC:20260416T170000
DTSTAMP:20260421T220101
CREATED:20260312T075240Z
LAST-MODIFIED:20260312T075240Z
UID:11005-1776340800-1776358800@tiraholm.se
SUMMARY:Forsheda
DESCRIPTION:at ICA
URL:https://tiraholm.se/en/event/forsheda/
END:VEVENT
BEGIN:VEVENT
DTSTART;TZID=UTC:20260411T090000
DTEND;TZID=UTC:20260411T140000
DTSTAMP:20260421T220101
CREATED:20260312T075125Z
LAST-MODIFIED:20260312T075125Z
UID:10999-1775898000-1775916000@tiraholm.se
SUMMARY:Tranemo
DESCRIPTION:
URL:https://tiraholm.se/en/event/tranemo/
END:VEVENT
BEGIN:VEVENT
DTSTART;TZID=UTC:20260411T080000
DTEND;TZID=UTC:20260411T150000
DTSTAMP:20260421T220101
CREATED:20260312T075054Z
LAST-MODIFIED:20260312T075054Z
UID:11001-1775894400-1775919600@tiraholm.se
SUMMARY:Skållered
DESCRIPTION:
URL:https://tiraholm.se/en/event/skallered/
END:VEVENT
BEGIN:VEVENT
DTSTART;TZID=UTC:20260410T123000
DTEND;TZID=UTC:20260410T170000
DTSTAMP:20260421T220101
CREATED:20260312T075013Z
LAST-MODIFIED:20260312T075013Z
UID:10998-1775824200-1775840400@tiraholm.se
SUMMARY:Älvsered
DESCRIPTION:
URL:https://tiraholm.se/en/event/alvsered/
END:VEVENT
BEGIN:VEVENT
DTSTART;TZID=UTC:20260409T120000
DTEND;TZID=UTC:20260409T170000
DTSTAMP:20260421T220101
CREATED:20260312T074921Z
LAST-MODIFIED:20260312T074921Z
UID:10991-1775736000-1775754000@tiraholm.se
SUMMARY:Gislaved
DESCRIPTION:at Systembolaget
URL:https://tiraholm.se/en/event/gislaved/
END:VEVENT
BEGIN:VEVENT
DTSTART;TZID=UTC:20260408T080000
DTEND;TZID=UTC:20260408T120000
DTSTAMP:20260421T220101
CREATED:20260312T074811Z
LAST-MODIFIED:20260312T074811Z
UID:10987-1775635200-1775649600@tiraholm.se
SUMMARY:Unnaryd
DESCRIPTION:Unnaryd Square
URL:https://tiraholm.se/en/event/unnaryd/
END:VEVENT
BEGIN:VEVENT
DTSTART;TZID=UTC:20260403T110000
DTEND;TZID=UTC:20260403T160000
DTSTAMP:20260421T220101
CREATED:20260330T103624Z
LAST-MODIFIED:20260330T103624Z
UID:11174-1775214000-1775232000@tiraholm.se
SUMMARY:Ängelholm
DESCRIPTION:Easter Market at Valhall Park by the Castle
URL:https://tiraholm.se/en/event/angelholm/
END:VEVENT
BEGIN:VEVENT
DTSTART;TZID=UTC:20260402T090000
DTEND;TZID=UTC:20260402T120000
DTSTAMP:20260421T220101
CREATED:20260312T074603Z
LAST-MODIFIED:20260312T074603Z
UID:10980-1775120400-1775131200@tiraholm.se
SUMMARY:Lidhult
DESCRIPTION:At Lidhults Bygg och Lantmän
URL:https://tiraholm.se/en/event/lidhult/
END:VEVENT
BEGIN:VEVENT
DTSTART;TZID=UTC:20260329T110000
DTEND;TZID=UTC:20260329T170000
DTSTAMP:20260421T220101
CREATED:20260312T074311Z
LAST-MODIFIED:20260312T074319Z
UID:10976-1774782000-1774803600@tiraholm.se
SUMMARY:Oskarström School Hill
DESCRIPTION:
URL:https://tiraholm.se/en/event/oskarstrom-school-hill/
END:VEVENT
BEGIN:VEVENT
DTSTART;TZID=UTC:20260326T120000
DTEND;TZID=UTC:20260326T173000
DTSTAMP:20260421T220101
CREATED:20260227T083038Z
LAST-MODIFIED:20260227T083038Z
UID:10966-1774526400-1774546200@tiraholm.se
SUMMARY:Gnosjö
DESCRIPTION:at Ica
URL:https://tiraholm.se/en/event/gnosjo/
END:VEVENT
BEGIN:VEVENT
DTSTART;TZID=UTC:20260320T123000
DTEND;TZID=UTC:20260320T160000
DTSTAMP:20260421T220101
CREATED:20260128T103358Z
LAST-MODIFIED:20260128T103358Z
UID:11168-1774009800-1774022400@tiraholm.se
SUMMARY:Älvsered
DESCRIPTION:Älvsered Lantmän
URL:https://tiraholm.se/en/event/alvsered-3/
END:VEVENT
BEGIN:VEVENT
DTSTART;TZID=UTC:20230122T180000
DTEND;TZID=UTC:20230122T180000
DTSTAMP:20260421T220101
CREATED:20230103T091643Z
LAST-MODIFIED:20230103T091643Z
UID:4607-1674410400-1674410400@tiraholm.se
SUMMARY:The fish truck
DESCRIPTION:
URL:https://tiraholm.se/en/event/the-fish-truck-3/
LOCATION:Lidhults Bygg & Lantmän\, Unnarydsvägen 21\, Lidhult\, 341 71
END:VEVENT
BEGIN:VEVENT
DTSTART;TZID=UTC:20230122T170000
DTEND;TZID=UTC:20230122T183000
DTSTAMP:20260421T220101
CREATED:20230103T091643Z
LAST-MODIFIED:20230103T091643Z
UID:4600-1674406800-1674412200@tiraholm.se
SUMMARY:The fish truck
DESCRIPTION:
URL:https://tiraholm.se/en/event/the-fish-truck/
LOCATION:Hyltebruk G:a hallen\, School Street 1\, Hylte mill\, 314 31
END:VEVENT
BEGIN:VEVENT
DTSTART;TZID=UTC:20230118T100000
DTEND;TZID=UTC:20230118T100000
DTSTAMP:20260421T220101
CREATED:20230103T091643Z
LAST-MODIFIED:20230103T091643Z
UID:4608-1674036000-1674036000@tiraholm.se
SUMMARY:The fish truck
DESCRIPTION:
URL:https://tiraholm.se/en/event/the-fish-truck-3/
LOCATION:Halmstad Lilla torg\, Klostergatan 6\, Halmstad\, 302 43
END:VEVENT
BEGIN:VEVENT
DTSTART;TZID=UTC:20230116T100000
DTEND;TZID=UTC:20230116T113000
DTSTAMP:20260421T220101
CREATED:20230103T091644Z
LAST-MODIFIED:20230103T091644Z
UID:4609-1673863200-1673868600@tiraholm.se
SUMMARY:The fish truck
DESCRIPTION:
URL:https://tiraholm.se/en/event/the-fish-truck-4/
LOCATION:Halmstad Lilla torg\, Klostergatan 6\, Halmstad\, 302 43
END:VEVENT
BEGIN:VEVENT
DTSTART;TZID=UTC:20230104T080000
DTEND;TZID=UTC:20230104T090000
DTSTAMP:20260421T220101
CREATED:20230103T084124Z
LAST-MODIFIED:20230103T084124Z
UID:4604-1672819200-1672822800@tiraholm.se
SUMMARY:The fish truck
DESCRIPTION:
URL:https://tiraholm.se/en/event/the-fish-truck-2/
LOCATION:Lidhults Bygg & Lantmän\, Unnarydsvägen 21\, Lidhult\, 341 71
END:VEVENT
END:VCALENDAR